BEGIN:VCALENDAR
VERSION:2.0
PRODID:-//hacksw/handcal//NONSGML v1.0//EN
CALSCALE:GREGORIAN
BEGIN:VEVENT
DTEND;TZID="W. Europe Standard Time":20180130T220000
UID:69e9f3587e43f
DTSTAMP:20260423T122424
LOCATION:Oberer Kirchenweg 1\, 82131 Gauting
DESCRIPTION:&quot\;Ungeheuer ist viel\, doch nichts ist ungeheurer als der Mensch.&quot\; Chor\n
\n
Im blutigen Kampf um die Macht in Theben t&ouml\;ten sich Antigones Br&uuml\;der Eteokles und Polyneikes gegenseitig. Ihr Onkel Kreon wird neuer K&ouml\;nig. Um des gesellschaftlichen Friedens willen verf&uuml\;gt er\, dass Eteokles\, der die Stadt verteidigte\, ruhmhaft begraben werde. Polyneikes aber\, den Aufr&uuml\;hrer\, soll noch nach dem Tode die gr&ouml\;&szlig\;te Schmach treffen: Unbeerdigt soll er auf dem Schlachtfeld liegenbleiben\, den V&ouml\;geln und Hunden zum Fra&szlig\;e. Die Todesstrafe droht jedem\, der dieses Gesetz missachtet.\n
\n
Antigone akzeptiert das politische Dekret nicht. Unbestattet findet Polyneikes keinen Einzug ins Totenreich\, also bedeckt sie den Bruder mit Erde &ndash\; so verlangt es das g&ouml\;ttliche Gesetz. F&uuml\;r ihre &Uuml\;berzeugung\, dass die g&ouml\;ttlichen Gesetze h&ouml\;her zu achten seien als die menschgemachten\, geht Antigone unbeirrt in den Tod.&nbsp\;\n
\n
Was z&auml\;hlt mehr: das Gesetz des Staates oder das ungeschriebene\, das moralische Gesetz? Sophokles&rsquo\; Trag&ouml\;die thematisiert einen der wesentlichen Konflikte\, die die abendl&auml\;ndische Zivilisation seit ihrer Geburt begleiten: Der Staat\, geschaffen zum Schutz der Lebensinteressen des Einzelnen\, ger&auml\;t mit seinen eigens daf&uuml\;r konstruierten Gesetzen immer wieder in Widerspruch zu eben jenen Interessen\, die er zu sch&uuml\;tzen sucht. Muss der Einzelne mit seinen (famili&auml\;ren oder religi&ouml\;sen) Interessen zur&uuml\;cktreten hinter den Interessen der Gemeinschaft? Und wenn ja\, warum sollte er dann die Gesetze des Staates als bindend betrachten?\n
\n
&raquo\;Antigone\, die Schreckliche: Arrogant\, aufr&uuml\;hrerisch\, unempf&auml\;nglich f&uuml\;r guten Rat. Oder Antigone\, die schrecklich Tapfere\, die uns gemahnt an die W&uuml\;rde des Menschen.&laquo\; ALEXANDER NETSCHAJEW\n
\n
St&uuml\;ckdauer: 1\,35 Std.\, keine Pause\n
Einf&uuml\;hrung: 19:15 Uhr\n
\n
Inszenierung ALEXANDER NETSCHAJEW\n
Mit CAROLINE PISCHEL\, JOCHEN GEHLE\, SIMONE FULIR\,\n
DIMITRIJ BREUER\, CARSTEN FASELER\, HANNES LIEBERMANN\n
\n

URL;VALUE=URI:https://bosco-gauting.de/veranstaltungen/theater-der-altmark-antigone-tragoedie-von-sophokles
SUMMARY:Theater der Altmark "Antigone"  Tragödie von Sophokles // Bosco Gauting
DTSTART;TZID="W. Europe Standard Time":20180130T200000
END:VEVENT
END:VCALENDAR
