BEGIN:VCALENDAR
VERSION:2.0
PRODID:-//hacksw/handcal//NONSGML v1.0//EN
CALSCALE:GREGORIAN
BEGIN:VEVENT
DTEND;TZID="W. Europe Standard Time":20180423T220000
UID:69e8d2086662b
DTSTAMP:20260422T155000
LOCATION:Oberer Kirchenweg 1\, 82131 Gauting
DESCRIPTION:Bund und L&auml\;nder haben im Dezember 2006 die &bdquo\;Bundesstiftung Baukultur&ldquo\; gegr&uuml\;ndet. St&auml\;dte und Gemeinden nutzen ihre &auml\;sthetischen Potenziale oft zu wenig. Sie vergeben dadurch Chancen und Leiden an gestalterischer Nachl&auml\;ssigkeit. Die\n
Bundesstiftung kann vielf&auml\;ltige Hilfestellungen leisten\, wenn das Niveau des Planens und Bauens verbessert werden soll. Reiner Nagel berichtet aus erster Hand &uuml\;ber die Gr&uuml\;ndungsgeschichte\, die Aufgaben und die Arbeit dieser bedeutenden und interessanten Bundesstiftung. er wirbt daf&uuml\;r\, ihr Angebot zu nutzen.\n
\n
Referent\n
DIPL.-ING. REINER NAGEL\, Vorstandsvorsitzender Bundesstiftung Baukultur\n
\n
Zur Reihe ARCHITEKTUR-SICHTEN:\n
Wie wollen wir leben? Mit der Gespr&auml\;chsreihe &uuml\;ber Architektur m&ouml\;chten wir in Zusammenarbeit mit der Arbeitsgruppe &bdquo\;ArchitekturSichten&ldquo\; Fakten und Probleme sichten\, Fragen stellen\, Antworten h&ouml\;ren. Gauting ver&auml\;ndert sich. Eine gute Gestaltung ist wichtig. Was aber ist gute Architektur? Wir Fragen Architekten und Stadtplaner\, Investoren und Mandatstr&auml\;ger\, wie sie Gauting sehen und welche Ideen und Vorschl&auml\;ge sie haben. Ausgangspunkt ist unser Ort im W&uuml\;rmtal\, die Architektur der Welt ist das weitere Feld. In den Gespr&auml\;chen geht es um Baukultur und darum\, f&uuml\;r die Fragen von Architektur und Stadtplanung eine Diskussionsplattform zu schaffen.\n
\n
Die Reihe wird inhaltlich von der Arbeitsgruppe &bdquo\;Architektur-Sichten&ldquo\; programmiert\, der Theaterforum Gauting e.V. ist Mitveranstalter\, weil wir Fragen an die Zukunft f&uuml\;r wichtig halten.\n
\n
Diese Veranstaltung wird unterst&uuml\;tzt aus Mitteln der Bundesstiftung Baukultur und gef&ouml\;rdert durch die Bayerische Architektenkammer\n
\n
&nbsp\;&nbsp\;&nbsp\;&nbsp\;&nbsp\;&nbsp\;&nbsp\;\n
\n
\n
\n
 \n
&nbsp\;
URL;VALUE=URI:https://bosco-gauting.de/veranstaltungen/achitektur-sichten-baukultur-klein-und-mittelstaedten
SUMMARY:Achitektur-Sichten Baukultur in Klein- und Mittelstädten  // Bosco Gauting
DTSTART;TZID="W. Europe Standard Time":20180423T200000
END:VEVENT
END:VCALENDAR
