BEGIN:VCALENDAR
VERSION:2.0
PRODID:-//hacksw/handcal//NONSGML v1.0//EN
CALSCALE:GREGORIAN
BEGIN:VEVENT
DTEND;TZID="W. Europe Standard Time":20180506T190000
UID:69e736645d8ef
DTSTAMP:20260421T103340
LOCATION:Oberer Kirchenweg 1\, 82131 Gauting
DESCRIPTION:Die Eltern von Estera Silber lernten sich nach dem 2. Weltkrieg im Displaced Persons-Lager in Gauting kennen. Ihr Vater war der in Gauting bekannte Taxifahrer Rafael Katz\, der nach der Befreiung aus dem KZ Dachau in das Gautinger Sanatorium gebracht wurde. Esthera Silber\, geb. 1950\, wuchs mit ihren Geschwistern in der Gartenpromenade auf und wird uns in dieser Tee-Stunde von dem J&uuml\;dischen Leben der Familie in Gauting erz&auml\;hlen und wie es ist\, mit Pferden im Garten aufzuwachsen.\n
Estera Silber ist staatl. gepr&uuml\;fte Bewegungsp&auml\;dagogin und lebt mit ihrem Mann in M&uuml\;nchen und Gauting. Sie hat zwei erwachsene T&ouml\;chter.\n
\n
Begleitprogramm zur Ausstellung &quot\;Hoffnung trotz allem&quot\; gef&ouml\;rdert durch:\n
\n
\n
&nbsp\;
URL;VALUE=URI:https://bosco-gauting.de/veranstaltungen/tee-bei-sabine-estera-silber
SUMMARY:Tee bei Sabine Estera Silber // Bosco Gauting
DTSTART;TZID="W. Europe Standard Time":20180506T170000
END:VEVENT
END:VCALENDAR
