BEGIN:VCALENDAR
VERSION:2.0
PRODID:-//hacksw/handcal//NONSGML v1.0//EN
CALSCALE:GREGORIAN
BEGIN:VEVENT
DTEND;TZID="W. Europe Standard Time":20180314T220000
UID:69e73443be2bb
DTSTAMP:20260421T102435
LOCATION:Oberer Kirchenweg 1\, 82131 Gauting
DESCRIPTION:Wo f&auml\;ngt man an? Im Keller oder auf dem voll gestopften Speicher? An jedem Gegenstand scheint noch so viel Leben zu h&auml\;ngen\, ein vertrauter Geruch oder eine Geschichte! Behalten? Verschenken? Verkaufen? Wegwerfen? Erinnerungen an die Familie und die eigene Kindheit springen aus Schubladen und Schr&auml\;nken. Agnes stolpert &uuml\;ber Briefe und Tageb&uuml\;cher\, die nicht f&uuml\;r sie bestimmt waren. &bdquo\;Was vom Leben &uuml\;brig bleibt\, kann alles weg&ldquo\;\, hatte ihr ein Entr&uuml\;mpelungs-Profi geraten.\n
Wenn das so einfach w&auml\;re&hellip\;\n
\n
St&uuml\;ckdauer: 1\,30 Std.\, keine Pause\n
Einf&uuml\;hrung: 19:15 Uhr\n
\n
Regie DOMINIK G&Uuml\;NTHER\n
Ausstattung EVA HUMBURG\n
Mit GILLA CREMER\n
\n
Koproduktion Theater Unikate &ndash\; Gilla Cremer mit dem Theater Wolfsburg und den Hamburger Kammerspielen\, unterst&uuml\;tzt von der Kulturbeh&ouml\;rde der Freien und Hansestadt Hamburg. Urauff&uuml\;hrung: 4. Februar 2014\n
\n
Unterst&uuml\;tzt durch das NATIONALE PERFORMANCE NETZ Gastspielf&ouml\;rderung Theater\, gef&ouml\;rdert von der Beauftragten der Bundesregierung f&uuml\;r Kultur und Medien\, sowie den Kultur- und Kunstministerien der L&auml\;nder.\n
\n
\n
\n
\n

URL;VALUE=URI:https://bosco-gauting.de/veranstaltungen/hamburger-kammerspiele-theater-wolfsburg-die-dinge-meiner-eltern-von-gilla-cremer
SUMMARY:Hamburger Kammerspiele & Theater Wolfsburg "Die Dinge meiner Eltern" von Gilla Cremer // Bosco Gauting
DTSTART;TZID="W. Europe Standard Time":20180314T200000
END:VEVENT
END:VCALENDAR
