BEGIN:VCALENDAR
VERSION:2.0
PRODID:-//hacksw/handcal//NONSGML v1.0//EN
CALSCALE:GREGORIAN
BEGIN:VEVENT
DTEND;TZID="W. Europe Standard Time":20180504T220000
UID:69e73443bbd6a
DTSTAMP:20260421T102435
LOCATION:Oberer Kirchenweg 1\, 82131 Gauting
DESCRIPTION:Eduard ein au&szlig\;ergew&ouml\;hnlich charmanter\, unterhaltender Mann und Charlotte\, eine lebenserfahrene\, kultivierte Frau in der Bl&uuml\;te ihrer Jahre\, haben sich von allen gesellschaftlichen Verpflichtungen zur&uuml\;ckgezogen und genie&szlig\;en ungest&ouml\;rt ihr gemeinsames Leben auf ihrem Landsitz. Bis Otto auftaucht\, der Jugendfreund Eduards\, ein stellungsloser Architekt\, der sich mit gro&szlig\;er Energie in die Gestaltung der Gartenanlage einmischt. Von der Schaffenskraft des Freundes angesteckt arbeitet Eduard mit\; Charlotte sieht ihren Ehemann bald nur noch abends. Da trifft Ottilie ein\, Charlottes Nichte\, die ihr Internat verlassen musste. Charlotte nimmt sich ihrer m&uuml\;tterlich an. Beinahe gelingt es ihr\, Harmonie und Gleichklang in der kleinen Runde zu stiften\, da kommt ein weiterer Gast und st&ouml\;rt das sensible Gleichgewicht: die Liebe.\n
\n
Beinahe unmerklich tritt sie ein\, entflammt die vier Herzen. V&ouml\;llig ungehemmt verlieben sich Eduard und Ottilie ineinander &ndash\; Weniger ungez&uuml\;gelt\, doch ebenso hingebungsvoll begehren sich auch Charlotte und Otto\, die &bdquo\;vern&uuml\;nftig&ldquo\; mit der Situation umzugehen versuchen. Charlotte ist es\, die einer Scheidung nicht zustimmt\, da sie entdeckt\, dass sie von Eduard schwanger ist&hellip\;\n
\n
Goethes Versuchsanordnung menschlicher Beziehungsgeflechte hat an Sprengkraft nichts verloren. Seine These\, &ldquo\;jede Ehe solle nur auf f&uuml\;nf Jahre angelegt sein&rdquo\;\, wirkt auch im 21.Jahrhundert noch provokant\, selbst unter dem Gesichtspunkt des au&szlig\;erehelichen Zusammenlebens in unserer Gesellschaft.\n
\n
St&uuml\;ckdauer: 1\,45 Std.\, keine Pause\n
Einf&uuml\;hrung: 19:15 Uhr\n
\n
Regie SILVIA ARMBRUSTER\n
B&uuml\;hne BARBARA K&Auml\;SBOHRER\n
Mit HANS PIESBERGEN\n
JULIA JASCHKE\n
CHRISTIAN KAISER\n
CORINNE STEUDLER\n
\n
\n
\n
\n
&quot\;Verbl&uuml\;ffend\, wie leicht\, spielerisch\, ironisch und heutig (ohne Aktualisierung!) Regisseurin Silvia Armbruster und ihr wunderbares Ensemble ihre B&uuml\;hnenfassung des Ehebruch Romanes von 1809 erz&auml\;hlen. Zwei geistreiche\, heitere\, spannende Theater-Sternstunden ... Armbruster findet atmosph&auml\;risch dichte\, schl&uuml\;ssige Bilder ... stimmige Musik\, kluge Dramaturgie. Die mitrei&szlig\;end spiellaunigen Darsteller gl&auml\;nzen auch in den tragischen Momenten (...).&quot\;\n
ABENDZEITUNG M&Uuml\;NCHEN\n
\n
&quot\;Silvia Armbrusters zeigt eine launige\, ideenreiche Version jenes Goethe ́schen Sommernachtstraumes ohne Happy-End. Immer wieder zeigt sich dabei Armbrusters choreographisches Talent\, ihr Sinn f&uuml\;r Bilder und ironischen Witz. Sie hat viele einfache\, aber effektive Bilder gefunden\, die Lust auf den kom&ouml\;diantischen Liebeskrampf machen.&quot\;\n
FAZ\, BERLIN-AUSGABE
URL;VALUE=URI:https://bosco-gauting.de/veranstaltungen/theater-wahlverwandte-wahlverwandtschaften-von-goethe
SUMMARY:Theater Wahlverwandte "Wahlverwandtschaften" von Goethe // Bosco Gauting
DTSTART;TZID="W. Europe Standard Time":20180504T200000
END:VEVENT
END:VCALENDAR
