BEGIN:VCALENDAR
VERSION:2.0
PRODID:-//hacksw/handcal//NONSGML v1.0//EN
CALSCALE:GREGORIAN
BEGIN:VEVENT
DTEND;TZID="W. Europe Standard Time":20190124T220000
UID:69e8a11426fd0
DTSTAMP:20260422T122108
LOCATION:Oberer Kirchenweg 1\, 82131 Gauting
DESCRIPTION:Auch Martin Zingsheim hat sich frei gemacht. Ein Mann. Ein Mikro. Keine Pyrotechnik. Denn alles was Du hast\, hat irgendwann Dich. Und Relevanz braucht keine Requisiten.\n
\n
Wenn &Uuml\;berflussgesellschaften Verzicht &uuml\;ben\, ist das Leben voller Widerspr&uuml\;che. Zweit&auml\;gige Fernreisen treten Viele nur noch in fair gehandelten &Ouml\;ko-Klamotten an und transportieren Wasser in Plastikflaschen daf&uuml\;r mit dem Elektrofahrrad. Martin findet in &bdquo\;aber bitte mit ohne&ldquo\; gleich eine ganze Menge Wahnsinn\, auf den man sofort verzichten k&ouml\;nnte: Kundenrezensionen\, Terrorismus-Experten\, Tierfreunde\, Hobbypsychologen\, Online-Petitionen und glutenfreie Spr&uuml\;hsahne. Nur auf eines sollten Sie niemals verzichten: n&auml\;mlich ins Theater zu gehen!\n
\n
Martin Zingsheim\, mit Auszeichnungen &uuml\;berh&auml\;ufter Comedian aus K&ouml\;ln\, pr&auml\;sentiert sein brandneues Stand-up-Programm\, in dem er wie kein Zweiter sprachlich brillante Komik und rasante Gags mit kritischer Tiefensch&auml\;rfe zu verbinden wei&szlig\;. Zingsheim ist wie Philosophie\, nur mit Witzen statt mit Fu&szlig\;noten. Dadurch wird&rsquo\;s auch deutlich lustiger.\n
\n

URL;VALUE=URI:https://bosco-gauting.de/veranstaltungen/martin-zingsheim-aber-bitte-mit-ohne
SUMMARY:Martin Zingsheim aber bitte mit ohne // Bosco Gauting
DTSTART;TZID="W. Europe Standard Time":20190124T200000
END:VEVENT
END:VCALENDAR
