BEGIN:VCALENDAR
VERSION:2.0
PRODID:-//hacksw/handcal//NONSGML v1.0//EN
CALSCALE:GREGORIAN
BEGIN:VEVENT
DTEND;TZID="W. Europe Standard Time":20190110T210000
UID:69e535a2e149c
DTSTAMP:20260419T220554
LOCATION:Oberer Kirchenweg 1\, 82131 Gauting
DESCRIPTION:Diese Portr&auml\;ts sollen vor allem die pers&ouml\;nlichen Momente beleuchten\,&nbsp\;in denen sich die Schauspieler ganz auf sich selbst besinnen\, und in denen sich manchmal auch eine gewisse Einsamkeit und Fragilit&auml\;t offenbart. Es geht dabei weniger um die &auml\;u&szlig\;ere Verwandlung\, als um die&nbsp\;&nbsp\;leisen Augenblicke\, die Anspannung\,&nbsp\;erh&ouml\;hte Konzentration\, ja Versenkung sp&uuml\;rbar machen\, und Emotionen einfangen\, die Gesicht und K&ouml\;rper durchdringen.\n
&nbsp\;\n
Die Fotografin begleitete zahlreiche Schauspieler an Theatern unter anderem in M&uuml\;nchen\, Wien\, Hamburg und Berlin\, so etwa Katharina Thalbach\, Angela Winkler\, Peter Simonischek\, Nicholas Ofczarek\, Michael Maertens\, Elisabeth Orth\, Eva Mattes\, Bruno Cathomas\, Oliver N&auml\;gele\, Sophie von Kessel\, Juliane K&ouml\;hler\, Annette Paulmann\, Sebastian Blomberg oder Josef Ostendorf.\n
&nbsp\;\n
Mehrfach portr&auml\;tierte Cordula Treml die Schauspielerin Bibiana Beglau\, die Mitglied im Ensemble des M&uuml\;nchner Residenztheater ist\, und der in der Ausstellung ein besonderer Stellenwert zukommt.\n
\n
CORDULA TREML besuchte die &Eacute\;cole de l&rsquo\;Image des Gobelins in Paris und hat sich auf Theater- und Portr&auml\;tfotografie spezialisiert. Sie fotografiert Theater-\, Tanz und Opernproduktionen europaweit\, h&auml\;ufig in Deutschland und Frankreich. Seit mehreren Jahren arbeitet sie an einem Projekt\, f&uuml\;r das sie Schauspieler an verschiedenen Theatern bei der Vorbereitung auf ihre Rolle bis kurz vor dem Auftritt fotografiert. Cordula Treml schreibt und fotografiert regelm&auml\;&szlig\;ig f&uuml\;r die Fachzeitschrift Die Deutsche B&uuml\;hne sowie das deutsch-franz&ouml\;sische Magazin ParisBerlin.\n
\n
Er&ouml\;ffnung Do 10.01.2018 | 19:00\n
Im Anschluss Lesung mit Bibiana Beglau &amp\; Salewski: &quot\;Andere Stadt&quot\; von Pier Paolo Pasolini\n
Dauer der Ausstellung Bis Fr 01.03.2019 zu den &Ouml\;ffnungszeiten des bosco und w&auml\;hrend der Abendveranstaltungen
URL;VALUE=URI:https://bosco-gauting.de/veranstaltungen/cordula-treml-vor-dem-auftritt
SUMMARY:Cordula Treml Vor dem Auftritt // Bosco Gauting
DTSTART;TZID="W. Europe Standard Time":20190110T190000
END:VEVENT
END:VCALENDAR
