BEGIN:VCALENDAR
VERSION:2.0
PRODID:-//hacksw/handcal//NONSGML v1.0//EN
CALSCALE:GREGORIAN
BEGIN:VEVENT
DTEND;TZID="W. Europe Standard Time":20190515T213000
UID:69e7ae895cf31
DTSTAMP:20260421T190617
LOCATION:Oberer Kirchenweg 1\, 82131 Gauting
DESCRIPTION:Die Europawahl steht vor der T&uuml\;r. Am 26. Mai diesen Jahres w&auml\;hlen wir B&uuml\;rger und B&uuml\;rgerinnen der Europ&auml\;ischen Union zum 9. Mal das Europ&auml\;ische Parlament. Wir stehen dabei vor einer Richtungswahl. Lassen wir Europa zur&uuml\;ckfallen in gef&auml\;hrliche Nationalismen\, die l&auml\;ngst &uuml\;berwunden schienen oder st&auml\;rken wir die EU als Hort von Frieden\, Demokratie und Gerechtigkeit?!\n
Wo steht Europa derzeit? Welche Themen werden Europa in den n&auml\;chsten Jahren pr&auml\;gen und herausfordern? Wie begegnet die EU Schl&uuml\;sselfragen unserer Zeit? Wen w&auml\;hlen wir &uuml\;berhaupt und was k&ouml\;nnen wir durch unsere Wahl beeinflussen? Wie wirkt sich europ&auml\;ische Politik in Gauting und Umgebung aus?\n
Diesen und weiteren Fragen wollen wir uns &ndash\; gemeinsam mit geladenen G&auml\;sten aus Wissenschaft\, Politik und Wirtschaft &ndash\; einen Abend lang widmen.\n
&nbsp\;\n
Rede und Antwort stehen werden\n
Reinhard von Wittken (Europakandidat der Gr&uuml\;nen)\,\n
Prof. Dr. Stephan Stetter (Professor f&uuml\;r Internationale Politik und Konfliktforschung)\,\n
Anne Franke (Mitglied des Landtags)\,\n
Hella Langer (Mitglied des Aufsichtsrats der EOS Holding AG)\,\n
Hans-Wilhelm Knape (Koordinator f&uuml\;r Gefl&uuml\;chtete\, Helferkreis Gauting)
URL;VALUE=URI:https://bosco-gauting.de/veranstaltungen/buendnis-90-die-gruenen-ortsverband-gauting-europa-europa
SUMMARY:Bündnis 90 / Die Grünen Ortsverband Gauting Europa? Europa! // Bosco Gauting
DTSTART;TZID="W. Europe Standard Time":20190515T193000
END:VEVENT
END:VCALENDAR
