BEGIN:VCALENDAR
VERSION:2.0
PRODID:-//hacksw/handcal//NONSGML v1.0//EN
CALSCALE:GREGORIAN
BEGIN:VEVENT
DTEND;TZID="W. Europe Standard Time":20190602T213000
UID:69e96bd1cea0e
DTSTAMP:20260423T024609
LOCATION:Oberer Kirchenweg 1\, 82131 Gauting
DESCRIPTION:Die Gr&uuml\;nen haben sich entschlossen\, einen eigenen B&uuml\;rgermeister-Kandidaten aufzustellen und wollen diesen in dieser Versammlung w&auml\;hlen. Der Vorstand hat hierzu bereits eine &ouml\;ffentliche Empfehlung abgegeben. Es sind aber selbstverst&auml\;ndlich auch andere Bewerberinnen und Bewerber zugelassen. Mit dieser Wahl wollen die Gr&uuml\;nen eine Alternative zur jetzigen Leitung unserer Gemeinde anbieten. Sie sind davon &uuml\;berzeugt\, dass ein Wechsel in unserer Gemeinde n&ouml\;tig ist\, um Belange der Umwelt\, der Kultur\, der Finanzen und des Miteinanders zu ber&uuml\;cksichtigen. Die Veranstaltung ist &ouml\;ffentlich. G&auml\;ste sind herzlich wollkommen!&quot\;
URL;VALUE=URI:https://bosco-gauting.de/veranstaltungen/buendnis-90-die-gruenen-ortsverband-gauting-aufstellungs-versammlung-des
SUMMARY:Bündnis 90 / Die Grünen Ortsverband Gauting Aufstellungs-Versammlung des Ortsverbands für einen Bürgermeister-Kandidaten für die Kommunalwahl im März 2020 // Bosco Gauting
DTSTART;TZID="W. Europe Standard Time":20190602T193000
END:VEVENT
END:VCALENDAR
