BEGIN:VCALENDAR
VERSION:2.0
PRODID:-//hacksw/handcal//NONSGML v1.0//EN
CALSCALE:GREGORIAN
BEGIN:VEVENT
DTEND;TZID="W. Europe Standard Time":20190918T220000
UID:69e73499bef9b
DTSTAMP:20260421T102601
LOCATION:Oberer Kirchenweg 1\, 82131 Gauting
DESCRIPTION:Das Signum Quartett hat durch seine mitrei&szlig\;end lebendigen Interpretationen ein Zeichen [lat. signum] in der internationalen Quartettszene gesetzt und sich als eines der interessantesten Ensembles seiner Generation etabliert. &nbsp\;Intensive Studien mit dem Alban Berg Quartett\, dem Artemis Quartett und dem Melos Quartett\, sowie die Zusammenarbeit mit Gy&ouml\;rgy Kurt&aacute\;g\, Walter Levin\, Alfred Brendel\, Leon Fleisher und J&ouml\;rg Widmann pr&auml\;gten die k&uuml\;nstlerische Entwicklung des Signum Quartetts\, das zahlreiche Preise gewonnen hat (u.a. Premio Paolo Borciani\, London International String Quartet Competition) und im Rahmen des stART-Programms von Bayer Kultur und als Ensemble der BBC Radio 3 New Generation Artists gef&ouml\;rdert wurde. Berlin\, Hamburg\, M&uuml\;nchen\, Paris\, Barcelona\, Amsterdam\, London\, New York &minus\; das Signum Quartett ist regelm&auml\;&szlig\;ig auf den gro&szlig\;en internationalen Podien und Festivals zu erleben. Nach umjubelten Gastspielen in Paris (Philharmonie)\, London (Wigmore Hall) und Amsterdam (Concertgebouw)\, war das renommierte Ensemble mit dem ihm gewidmeten 3. Streichquartett von Bruno Mantovani in Wien\, Luxemburg und Frankfurt zu h&ouml\;ren.\n
&nbsp\;\n
FLORIAN DONDERER Violine\n
ANNETTE WALTHER Violine\n
XANDI VAN DIJK Viola\n
THOMAS SCHMITZ Violoncello\n
&nbsp\;\n
Sowohl als Solist und Kammermusiker\, als auch in seiner Position als Soloklarinettist der Wiener Philharmoniker konzertiert Daniel Ottensamer mit namhaften Orchestern und bedeutenden K&uuml\;nstlerpers&ouml\;nlichkeiten in den wichtigsten Musikzentren der Welt. Zahlreiche Preise bei internationalen Wettbewerben wie dem &bdquo\;Carl Nielsen International Clarinet Competition&ldquo\; in D&auml\;nemark im Jahr 2009\, begleiteten seinen k&uuml\;nstlerischen Werdegang. Zu den H&ouml\;hepunkten der letzten Jahre geh&ouml\;ren Daniel Ottensamers Auftritte als Solist unter Lorin Maazel (&dagger\;)\, Gustavo Dudamel\, Andris Nelsons\, Adam Fischer und Ivor Bolton mit den Wiener Philharmonikern\, dem NHK Symphony Orchestra und dem Simon Bolivar Symphony Orchestra. Zu seinen Kammermusikpartnern z&auml\;hlen K&uuml\;nstler wie Daniel Barenboim\, Angelika Kirchschlager\, Barbara Bonney\, Thomas Hampson\, Juliane Banse\, Bobby McFerrin\, Bernarda Fink\, Krassimira Stoyanova\, Heinrich Schiff\, Julian Rachlin\, Mischa Maisky\, das Hagen Quartett\, das Signum Quartett\, das Ensemble daniel ottensamer music (u.a. mit Noah Bendix-Balgley\, Christoph Traxler\, Harriet Krijgh und Stephan Koncz) u.v.m.\n
&nbsp\;\n
Programm\n
MOZART Streichquartett B-Dur KV 458 &bdquo\;Jagdquartett&ldquo\;\n
WIDMANN &bdquo\;Jagdquartett&ldquo\;\n
MOZART Klarinettenquintett A-Dur KV 581\n
\n
\n

URL;VALUE=URI:https://bosco-gauting.de/veranstaltungen/signum-quartett-daniel-ottensamer-klarinette-mozart-und-widmann
SUMMARY:Signum Quartett & Daniel Ottensamer\, Klarinette Mozart und Widmann // Bosco Gauting
DTSTART;TZID="W. Europe Standard Time":20190918T200000
END:VEVENT
END:VCALENDAR
