BEGIN:VCALENDAR
VERSION:2.0
PRODID:-//hacksw/handcal//NONSGML v1.0//EN
CALSCALE:GREGORIAN
BEGIN:VEVENT
DTEND;TZID="W. Europe Standard Time":20200121T220000
UID:69e9b8006834b
DTSTAMP:20260423T081112
LOCATION:Oberer Kirchenweg 1\, 82131 Gauting
DESCRIPTION:&bdquo\;Was der vorherrschende Impuls zu sein scheint und was diese Musik antreibt\, ist die Sehnsucht des Menschen nach Freiheit sowie das unstillbare Verlangen\, seine eigenen Grenzen zu erweitern und dabei die Wahrheit &uuml\;ber sich selbst zu erfahren.&ldquo\;\n
\n
Was das Belcea Quartet im Vorwort zu seiner Gesamtaufnahme der Beethoven Streichquartette schreibt\, gilt auch f&uuml\;r sein gesamtes k&uuml\;nstlerisches Wirken. Die Musiker lassen sich nicht von Grenzen einengen: Kein geographischer Ort und kein Repertoire kann sie einschr&auml\;nken. 1994 am Londoner Royal College of Music gegr&uuml\;ndet\, dr&auml\;ngt sich eine Verortung nach Gro&szlig\;britannien auf. Mit der rum&auml\;nischen Violinistin Corina Belcea und dem polnischen Bratschisten Krzysztof Chorzelski bringen jedoch gleich zwei Gr&uuml\;ndungsmitglieder eine andere k&uuml\;nstlerische Herkunft in das Ensemble ein. Wichtige Impulse bekamen sie zudem von ihren Mentoren\, Mitglieder des Alban Berg und des Amadeus Quartetts. Dieses Spektrum wird durch die franz&ouml\;sischen Musiker Axel Schacher (Violine) und Antoine Lederlin (Violoncello) erweitert. Das Belcea Quartet verbindet seine mannigfaltigen Einfl&uuml\;sse zu einer gemeinsamen musikalischen Sprache. Diese Aufgeschlossenheit spiegelt sich im Repertoire des Belcea Quartets wider. Regelm&auml\;&szlig\;ige Urauff&uuml\;hrungen gehen gleicherma&szlig\;en mit einer tiefen Verbundenheit zu Werken der sp&auml\;ten Klassik und der Romantik einher. Das Quartett findet stets seine ganz eigene\, elegante und feine Interpretation der Werke\, die in Konzerth&auml\;usern weltweit zu umjubelten Auftritten f&uuml\;hrt. Zu den Partnern des Quartetts z&auml\;hlen u.a. Piotr Anderszewski\, Till Fellner\, Matthias Goerne und Antoine Tamestit.\n
&nbsp\;\n
CORINA BELCEA Violine\n
AXEL SCHACHER Violine\n
KRZYSZTOF CHORZELSKI Viola\n
ANTOINE LEDERLIN Violoncello\n
\n
Programm\n
BEETHOVEN Streichquartett Nr. 4 c-Moll op.18/4\n
BEETHOVEN Streichquartett Nr. 10 Es-Dur op. 74 &bdquo\;Harfenquartett&ldquo\;\n
BEETHOVEN Streichquartett Nr. 7 F-Dur op. 59/1 &bdquo\;Rasumowsky&ldquo\;\n
\n
\n
\n

URL;VALUE=URI:https://bosco-gauting.de/veranstaltungen/belcea-quartet-streichquartette-von-beethoven
SUMMARY:Belcea Quartet Streichquartette von Beethoven // Bosco Gauting
DTSTART;TZID="W. Europe Standard Time":20200121T200000
END:VEVENT
END:VCALENDAR
