BEGIN:VCALENDAR
VERSION:2.0
PRODID:-//hacksw/handcal//NONSGML v1.0//EN
CALSCALE:GREGORIAN
BEGIN:VEVENT
DTEND;TZID="W. Europe Standard Time":20191128T220000
UID:69e8cd7e1797d
DTSTAMP:20260422T153038
LOCATION:Oberer Kirchenweg 1\, 82131 Gauting
DESCRIPTION:Peter Untermaierhofer ist einer der bekanntesten deutschen Akteure im Bereich der Lost Places-Fotografie. Bei seinen Motiven handelt es sich um Orte und Strukturen\, die von Menschen erbaut\, aber im Laufe der Zeit aufgegeben und verlassen wurden.\n
\n
Passend zu seiner aktuellen Ausstellung &bdquo\;Lost Places &ndash\; Chernobyl&ldquo\; berichtet Peter Untermaierhofer &uuml\;ber seine Fotoreise als sogenannter Stalker. Als &bdquo\;Stalker&ldquo\; werden innerhalb der Lost Places-Szene diejenigen Abenteurer bezeichnet\, die &ndash\; oft sogar illegal &ndash\; die Sperrzone rund um die Ruine des Kernreaktors im ukrainischen Tschernobyl bereisen. In der heutigen Geisterstadt Prypjat hat Untermaierhofer Szenerien fotografiert\, die auf faszinierende Weise die morbide Stimmung vor Ort einfangen und damit die Zerst&ouml\;rung sowie den Verfall durch die Reaktorkatastrophe im Jahr 1986 dokumentieren. Es erwarten Sie Einblicke in die fotografische Arbeit an verlassenen Orten sowie ein spannender und beeindruckender Reisebericht &uuml\;ber die Sperrzone von Tschernobyl.\n
\n
Er&ouml\;ffnung Do 19.09.2019 | 19:00 &ndash\; Weitere Informationen finden Sie hier.\n
Dauer der Ausstellung Do 19.09. bis So 15.12.2019 zu den &Ouml\;ffnungszeiten des bosco und w&auml\;hrend der Abendveranstaltungen
URL;VALUE=URI:https://bosco-gauting.de/veranstaltungen/peter-untermaierhofer-s-t-l-k-e-r-eine-fotoabenteuerreise-die-sperrzone-von
SUMMARY:Peter Untermaierhofer S-T-A-L-K-E-R – Eine Fotoabenteuerreise in die Sperrzone von Tschernobyl // Bosco Gauting
DTSTART;TZID="W. Europe Standard Time":20191128T200000
END:VEVENT
END:VCALENDAR
