BEGIN:VCALENDAR
VERSION:2.0
PRODID:-//hacksw/handcal//NONSGML v1.0//EN
CALSCALE:GREGORIAN
BEGIN:VEVENT
DTEND;TZID="W. Europe Standard Time":20200301T190000
UID:69e7c61c5b7ce
DTSTAMP:20260421T204652
LOCATION:Oberer Kirchenweg 1\, 82131 Gauting
DESCRIPTION:Unterbrunn war schon immer ein besonderes Dorf. Die Burschen sind Maibaumdiebstahl-Weltmeister\, zuletzt erhielt Hubert Dietl den G&uuml\;nther-Klinge-Preis f&uuml\;r die Leitung des Theaters. Seit mehr als drei Jahren ist nun auch der Kultur in Unterbrunn e.V. aktiv. Ziel der Gruppe ist es\, die Wirtshauskultur zu beleben. Schlie&szlig\;lich ist der Gautinger Ortsteil eines der letzten D&ouml\;rfer im F&uuml\;nfseenland mit zwei bayerischen Gastst&auml\;tten.\n
\n
&bdquo\;Kultur in Unterbrunn&ldquo\; will vor allem ausw&auml\;rtige K&uuml\;nstler*innen in den Ort holen. Besonders im Fokus steht dabei die moderne\, bayerische Kulturszene. So waren zum Beispiel schon Monobo Son\, Mrs. Zwirbl\, Willy Michl und Maxi Pongratz zu Gast. Der Schauspieler Sebastian Hofm&uuml\;ller gestaltete einen Abend zum Thema Bier und der Schriftsteller Robert H&uuml\;ltner las noch vor dem Erscheinen erstmals aus seinem neuen Roman. Einmal im Jahr zeigt die Gruppe Filme von Marcus H. Rosenm&uuml\;ller. In diesem Jahr hat der Kult-Regisseur sogar spontan vorbeigeschaut und erkl&auml\;rt\, was Heimat f&uuml\;r ihn bedeutet. Die Vereinsvorsitzenden Hubert Schneller und Axel H&ouml\;pner berichteten zudem von Radl-Touren durch Kirgistan und Schottland. Der Verein soll vor allem die Organisation erleichtern\, Vereinsmeierei soll es nicht geben. Die Veranstaltungen sind vor allem f&uuml\;r die Dorfbewohner*innen und Interessierte aus der Umgebung gedacht &ndash\; daher macht &bdquo\;Kultur in Unterbrunn&ldquo\; keine gro&szlig\;e Werbung. Der harte Kern der Organisator*innen besteht aus gut einem Dutzend Aktiven\, mitmachen oder Vorschl&auml\;ge f&uuml\;r Veranstaltungen machen kann jede*r.\n
\n
Moderation\n
SABINE ZAPLIN\, Kulturjournalistin\n
Zu Gast\n
HUBERT SCHNELLER und AXEL H&Ouml\;PNER\, Vorsitzende Kultur in Unterbrunn e.V.

URL;VALUE=URI:https://bosco-gauting.de/veranstaltungen/tee-bei-sabine-hubert-schneller-und-axel-hoepner-vorsitzende-kultur-unterbrunn-ev
SUMMARY:Tee bei Sabine Hubert Schneller und Axel Höpner\, Vorsitzende Kultur in Unterbrunn e.V. // Bosco Gauting
DTSTART;TZID="W. Europe Standard Time":20200301T170000
END:VEVENT
END:VCALENDAR
