BEGIN:VCALENDAR
VERSION:2.0
PRODID:-//hacksw/handcal//NONSGML v1.0//EN
CALSCALE:GREGORIAN
BEGIN:VEVENT
DTEND;TZID="W. Europe Standard Time":20210226T220000
UID:69e7a3f450b22
DTSTAMP:20260421T182108
LOCATION:Oberer Kirchenweg 1\, 82131 Gauting
DESCRIPTION:FALTSCH WAGONI sind wahrlich echte Beziehungsexperten. Das langlebige Künstlerpaar Silvana und Thomas Prosperi steht seit 1982 gemeinsam auf der Bühne und bereichert seither\, mit Programmen wie „Ladies first\, Männer förster“ oder „Deutsch ist Dada hoch 3“ die deutsche Kabarett- und Kleinkunstszene. Mit viel Selbstironie\, Sprachwitz und mitreißenden Songs zeigen sie Partnerzankereien auf die amüsanteste Art. Faltsch Wagoni greifen tief in die kabarettistische Klischéekiste und liefern ein leidenschaftliches und zugleich einmaliges Wortgefecht. Mit Vorliebe nehmen sie dabei die Absurditäten zwischenmenschlicher Gepflogenheiten unter die Lupe und bestreiten dabei einen Kampf der Geschlechter\, bei dem es keinen Verlierer und keinen Sieger gibt\, sondern immer nur einen Gewinner: Das Publikum. Ihr Spiel mit Sprache und sprachlichen Missverständnissen ist genussvoll mitzuerleben und treibt sogar Hartgesottenen\, vor lauter Lachen\, Tränen in die Augen. Trockener Humor\, rhythmische Schlagfertigkeit und schräger Unsinn lassen die Auftritte von Faltsch Wagoni zu einer hinreißenden und hochintelligenten Sprach-und Kabarett-Revue werden.



Die BUSSTOP ROKKERS stehen für kernigen Blues\, deftigen Rockabilly\, coolen Seemannsgarn und immer einer heißen Note Country-Punk und Surf-Music. Das Münchner Trio bestehend aus Chris DocSchneider\, Michael Reiserer und Stefan Berchtold geht von Beginn auf „Volle Fahrt Voraus“. Der Kompass zeigt auf 50ies Rockabilly\, 60ies Surf-Sound und auf Country-Punk im ganz eigenen BusStop Rokkers-Stil. Johnny Burnette\, Hank Williams\, Kraftwerk\, Lemmy\, Elvis\, Cash\, Ulrich Tukur\, Johnny Rivers\, Manu Chao\, sogar Hans Albers und eigene Songs geben den Kurs vor.&nbsp\; Ur-Rockabilly Chris DocSchneider twangt und surft\, wie von Kerosin getrieben\, mit seiner blauen Guild und mit markant punkiger Stimme durch die Songs. Bei Micha Reiserer verschmelzen Drumset\, Akkordeon und Gesang zu einem Instrument und er sorgt für vehementen\, aber kontrolliertem Vorschub. Kontrabassist und Songwriter Stefan Berchtold heizt mit einem Hot-Mix aus Country\, Swing und Rockabilly den Maschinenraum an. Die drei Musiker leben nicht nur von\, sondern vor allem für Ihre Musik. Sie bringen allesamt jahrzehntelange und tausendfache Live-Erfahrung mit auf die Bühne. Im Vordergrund&nbsp\; steht dabei immer der pure Rock´n´Roll!



Besetzung\n
MICHAEL REISERER Drums\, Akkordeon\, Singende Säge\, Gesang\n
CHRIS DOCSCHNEIDER Elektrifizierte-Halbakustische Gitarren\, Gesang\n
STEFAN BERCHTOLD Kontrabass\, Gesang

\n
Moderation CHRISTINA TEWES-GRADL &amp\; STEFAN BERCHTOLD

gauting.live ist eine gemeinnützige Live-Online-Veranstaltungsreihe mit Live-Musik\, Lesungen und Talks aus der Gautinger Kulturszene. Die Veranstaltungen\, der spendenfinanzierten Initiative werden live aus dem bosco Gauting übertragen und können auch im Nachhinein online abgerufen werden. Moderiert werden die Veranstaltungen von Stefan Berchtold und Christina Tewes-Gradl\, zwei der Initiator*innen von gauting.live.

Hinter der privaten Initiative stehen Kulturschaffende\, Kulturinteressierte und Lokalpolitiker*innen aus den Reihen der Grünen und der Liste "Menschen für Gauting/Piraten"\, die gauting.live ehrenamtlich organisieren. Unterstützt wird gauting.live vom Theaterforum Gauting e.V. sowie dem Förderverein Kulturspektakel e.V. Die Gemeinde stellt gauting.live das bosco\, Bürger- und Kulturhaus Gauting für die Shows kostenlos zur Verfügung.

Weitere Informationen und die Möglichkeit die Veranstaltungsreihe durch eine Spende zu unterstützen\, finden Sie auf der Webseite von gauting.live.

URL;VALUE=URI:https://bosco-gauting.de/veranstaltungen/gautinglive-faltsch-wagoni-busstop-rokkers
SUMMARY:gauting.live Faltsch Wagoni | BusStop Rokkers // Bosco Gauting
DTSTART;TZID="W. Europe Standard Time":20210226T200000
END:VEVENT
END:VCALENDAR
