BEGIN:VCALENDAR
VERSION:2.0
PRODID:-//hacksw/handcal//NONSGML v1.0//EN
CALSCALE:GREGORIAN
BEGIN:VEVENT
DTEND;TZID="W. Europe Standard Time":20211029T220000
UID:69ebc9a051668
DTSTAMP:20260424T215056
LOCATION:Oberer Kirchenweg 1\, 82131 Gauting
DESCRIPTION:Seine Musik\, die an 'They Might Be Giants'\, 'The Divine Comedy' oder auch 'Beirut' erinnert\, ist eine Mischung aus akustischen und elektronischen Instrumenten mit ungewöhnlichen Texten\, die zum Nachdenken anregen.\n
\n
Manchmal zart und bedächtig\, oft schwungvoll\, bietet die zirkusähnliche Pop-Folk Musik ein theatrales Narrativ mit Fußwipp-Groove und einem breiten dynamischen Spektrum. Wer also auf der Suche ist nach etwas Neuem\, etwas Anderem\, etwas Provokativem\, für den ist The Lone Dining Society genau das Richtige.\n
\n
IAN CHAPMAN&nbsp\;&nbsp\;&nbsp\;&nbsp\;&nbsp\; Gesang\, Gitarre\n
EILEEN BYRNE Background vocal\, Orgel\n
CARLES CAMÓS E-Bass\, Klavier\n
LUKAS JOCHNER Posaune\n
ANDREAS UNTERREINER Trompete\n
JOHANNES URL Schlagzeug



\n
Gefördert von: 

&nbsp\;&nbsp\;&nbsp\;&nbsp\;&nbsp\;&nbsp\;&nbsp\;&nbsp\;&nbsp\;&nbsp\;&nbsp\;&nbsp\;&nbsp\;&nbsp\;&nbsp\;&nbsp\; &nbsp\;&nbsp\;&nbsp\;&nbsp\;&nbsp\;&nbsp\;&nbsp\;&nbsp\;&nbsp\;&nbsp\;&nbsp\;&nbsp\;&nbsp\;&nbsp\;&nbsp\;&nbsp\; &nbsp\; &nbsp\; &nbsp\; &nbsp\; &nbsp\; &nbsp\; &nbsp\; &nbsp\;&nbsp\;&nbsp\;&nbsp\;&nbsp\;&nbsp\; &nbsp\; &nbsp\; &nbsp\; &nbsp\; &nbsp\;&nbsp\;&nbsp\;&nbsp\;&nbsp\;&nbsp\;&nbsp\;&nbsp\;&nbsp\; &nbsp\; &nbsp\; &nbsp\; &nbsp\;\n
&nbsp\;

URL;VALUE=URI:https://bosco-gauting.de/veranstaltungen/lone-dining-society-pop-folk_2
SUMMARY:The Lone Dining Society Pop-Folk Musik // Bosco Gauting
DTSTART;TZID="W. Europe Standard Time":20211029T200000
END:VEVENT
END:VCALENDAR
