BEGIN:VCALENDAR
VERSION:2.0
PRODID:-//hacksw/handcal//NONSGML v1.0//EN
CALSCALE:GREGORIAN
BEGIN:VEVENT
DTEND;TZID="W. Europe Standard Time":20220221T220000
UID:69ecd6de74610
DTSTAMP:20260425T165942
LOCATION:Oberer Kirchenweg 1\, 82131 Gauting
DESCRIPTION:Diese turbulente Komödie über die Heilsversprechen moderner Gen- und Fortpflanzungstechnologie entstand 1987 und wurde seitdem mehr als 250 Mal im deutschsprachigen Raum aufgeführt. An Aktualität hat diese bissige (und einzige) Komödie von Gilla Cremer bis heute nicht verloren. In rasantem Tempo schlüpft die Akteurin in viele verschiedene Rollen: in die Werbeagentin Margot Varell\, die ihre Leibesfrucht aus Karrieregründen der spanischen Putzfrau Franziska zum Austragen überlässt\, in den Obermacker Charly und Geliebten von Margot\, in die betuliche Mutter\, in geifernde Sekretärinnen oder den forschen Professor Hallogen\, der aus Versehen von Margots „Früchtchen“ acht Kopien klont.

Ein köstlicher und äußerst kurzweiliger Abend\, bei dem einem das Lachen im Halse stecken bleibt.\n
Ironisch\, frech und witzig „verpackt“ bringt Gilla Cremer Themen auf die Bühne\, die immer wieder für Schlagzeilen und hitzige Diskussionen sorgen.

Regie MAX EIPP

Mit GILLA CREMER

Einführung 19.15 Uhr



\n
Unterstützt durch das NATIONALE PERFORMANCE NETZ Gastspielförderung Theater\, gefördert von der Beauftragten der Bundesregierung für Kultur und Medien\, sowie den Kultur- und Kunstministerien der Länder.

&nbsp\;&nbsp\;&nbsp\;&nbsp\;&nbsp\;&nbsp\;&nbsp\;&nbsp\;&nbsp\;&nbsp\;&nbsp\;&nbsp\;&nbsp\;&nbsp\;&nbsp\;&nbsp\;&nbsp\;&nbsp\;&nbsp\;&nbsp\;&nbsp\;&nbsp\;&nbsp\;&nbsp\;&nbsp\;&nbsp\;&nbsp\;&nbsp\; &nbsp\; &nbsp\; &nbsp\; &nbsp\; &nbsp\; &nbsp\; &nbsp\; &nbsp\;&nbsp\; 

Gefördert von: 

&nbsp\;&nbsp\;&nbsp\;&nbsp\;&nbsp\;&nbsp\;&nbsp\;&nbsp\;&nbsp\;&nbsp\;&nbsp\;&nbsp\;&nbsp\;&nbsp\;&nbsp\;&nbsp\; &nbsp\;&nbsp\;&nbsp\;&nbsp\;&nbsp\;&nbsp\;&nbsp\;&nbsp\;&nbsp\;&nbsp\;&nbsp\;&nbsp\;&nbsp\;&nbsp\;&nbsp\;&nbsp\; &nbsp\; &nbsp\;&nbsp\; &nbsp\; &nbsp\; 

URL;VALUE=URI:https://bosco-gauting.de/veranstaltungen/hamburger-kammerspiele-was-man-von-hier-aus-sehen-kann
SUMMARY:Gilla Cremer „Das Wunschkind - Odyssee Embryonale" // Bosco Gauting
DTSTART;TZID="W. Europe Standard Time":20220221T200000
END:VEVENT
END:VCALENDAR
