BEGIN:VCALENDAR
VERSION:2.0
PRODID:-//hacksw/handcal//NONSGML v1.0//EN
CALSCALE:GREGORIAN
BEGIN:VEVENT
DTEND;TZID="W. Europe Standard Time":20220602T220000
UID:69e73558e91d3
DTSTAMP:20260421T102912
LOCATION:Oberer Kirchenweg 1\, 82131 Gauting
DESCRIPTION:Sissi Perlinger gibt in ihrer neuesten Bühnenshow „Worum es wirklich geht“ tiefgründige\, hochphilosophische\, urkomische und politisch ordentlich unkorrekte Anregungen\, sich über den wahren Sinn des Lebens Gedanken zu machen. Sie schmeißt mit Weis- und Wahrheiten derart rasant um sich\, dass man vor lauter Lachen ganz vergisst\, dass es sich um eben solche handelt. Was sich auf diesem Planeten gerade abspielt schimmert immer wieder durch und wird von der Perlingerin schonungslos auf den Punkt gebracht.\n
\n
Die Kaiserin der Vielseitigkeit ist Kabarettistin\, Entertainerin\, ernste Schauspielerin und Bühnenschamanin. Sie ist Inhaberin des Deutschen Kleinkunstpreises\, Adolf Grimme Preises mit Gold und erhielt den Bayrischer Kabarettpreis. Sissi Perlinger hatte 2 eigene TV-Shows im ZDF und ARD\, spielte mit in über 30 TV- und Kinofilmen\, hat 10 eigene Bühnen-Shows und 4 Bücher geschrieben. Sie gibt Einblicke wie man sich weiterentwickeln und die Themen der heutigen Zeit meistern kann. Das Publikum wird amüsiert\, inspiriert aber auch tief berührt.\n
\n
Regie Dieter Woll



Gefördert von: 

&nbsp\;&nbsp\;&nbsp\;&nbsp\;&nbsp\;&nbsp\;&nbsp\;&nbsp\;&nbsp\;&nbsp\;&nbsp\;&nbsp\;&nbsp\;&nbsp\; &nbsp\;&nbsp\;&nbsp\;&nbsp\;&nbsp\;&nbsp\;&nbsp\;&nbsp\;&nbsp\;&nbsp\;&nbsp\;&nbsp\;&nbsp\;&nbsp\;&nbsp\;&nbsp\; &nbsp\; &nbsp\; &nbsp\; &nbsp\; &nbsp\; &nbsp\; &nbsp\; &nbsp\;&nbsp\;&nbsp\;&nbsp\;&nbsp\;&nbsp\; &nbsp\; &nbsp\; &nbsp\; &nbsp\; 

URL;VALUE=URI:https://bosco-gauting.de/veranstaltungen/sissi-perlinger-worum-es-wirklich-geht/2022
SUMMARY:Sissi Perlinger Worum es wirklich geht // Bosco Gauting
DTSTART;TZID="W. Europe Standard Time":20220602T200000
END:VEVENT
END:VCALENDAR
