BEGIN:VCALENDAR
VERSION:2.0
PRODID:-//hacksw/handcal//NONSGML v1.0//EN
CALSCALE:GREGORIAN
BEGIN:VEVENT
DTEND;TZID="W. Europe Standard Time":20220505T220000
UID:69eb9cb73fa4e
DTSTAMP:20260424T183919
LOCATION:Oberer Kirchenweg 1\, 82131 Gauting
DESCRIPTION:Das ist der Ausgangspunkt von Werner Koczwaras neuem Programm: Kabarett über das Hirn\, unser einerseits geniales und gleichzeitig komplett idiotisches Zentralorgan. Denn es läßt uns Roboter zum Mars fliegen aber währenddessen stehen wir im Keller rum und haben vergessen\, weshalb wir dort hingegangen sind. Es führt in unserem Kopf die großartigsten Berechnungen durch\, aber wir selbst rasseln durchs Mathe-Abitur!

So geht das nicht weiter. Die Evolution hat 300 Millionen Jahre gebraucht\, um das Hirn zu entwickeln\, doch wenn wir abends vor dem Fernseher hocken\, kommen starke Zweifel\, ob dieser Aufwand sich wirklich gelohnt hat.

Wagen wir also einmal einen komplett neuen Blick auf unser Hirn: warum begeistert es uns ständig für neue Diäten\, und hinterher sind wir meistens dicker? Warum haben wir oft einen komplett entspannten Tag und nachts katastrophale Alpträume? Kann es sein\, daß unser Hirn uns verarscht?

Wir müssen uns also dringend mit unserem Hirn beschäftigen. Große Teile von ihm sitzen noch frierend in der Steinzeithöhle und jetzt soll es plötzlich die Erderwärmung verhindern. Das Hirn wird panisch\, reagiert mit völlig sinnlosen Sachen wie Diesel-Fahrverboten\, Freundschaft mit der AfD und die Frage ist: wie blöd kann unser Hirn noch werden?

&nbsp\;Schauen wir uns das Hirn also einfach mal an. Werner Koczwara tut es: Gründlich. Detailliert. Pointiert.

Ein spannendes\, informatives und vor allem sehr komisches Programm mit anschaulichen Grafiken\, die dafür sorgen\, daß der Abend auch optisch nachhaltig bleibt. Kabarett\, das nicht nur erheitert sondern auch bereichert.

Ihr Hirn wird begeistert sein.

Gefördert von: 

&nbsp\;&nbsp\;&nbsp\;&nbsp\;&nbsp\;&nbsp\;&nbsp\;&nbsp\;&nbsp\;&nbsp\;&nbsp\;&nbsp\;&nbsp\;&nbsp\; &nbsp\;&nbsp\;&nbsp\;&nbsp\;&nbsp\;&nbsp\;&nbsp\;&nbsp\;&nbsp\;&nbsp\;&nbsp\;&nbsp\;&nbsp\;&nbsp\;&nbsp\;&nbsp\; &nbsp\; &nbsp\; &nbsp\; &nbsp\; &nbsp\; &nbsp\; &nbsp\; &nbsp\;&nbsp\;&nbsp\;&nbsp\;&nbsp\;&nbsp\; &nbsp\; &nbsp\; &nbsp\; &nbsp\; 

URL;VALUE=URI:https://bosco-gauting.de/veranstaltungen/werner-koczwara-mein-schaden-hat-kein-gehirn-genommen/2022
SUMMARY:Werner Koczwara Mein Schaden hat kein Gehirn genommen! // Bosco Gauting
DTSTART;TZID="W. Europe Standard Time":20220505T200000
END:VEVENT
END:VCALENDAR
