BEGIN:VCALENDAR
VERSION:2.0
PRODID:-//hacksw/handcal//NONSGML v1.0//EN
CALSCALE:GREGORIAN
BEGIN:VEVENT
DTEND;TZID="W. Europe Standard Time":20220220T220000
UID:69e8ce6404a16
DTSTAMP:20260422T153428
LOCATION:Oberer Kirchenweg 1\, 82131 Gauting
DESCRIPTION:Er selbst sagt von sich nur\, er betreibe österreichisches Jammern und Nörgeln\, aber mit deutscher Gründlichkeit. In seinem vierten Soloprogramm begegnet er Gänseblümchen\, Schmetterlingen und Luftschlangen im Treppenhaus. Es entstehen Geschichten mit verblüffenden Wendungen\, tieftraurig und zugleich zum Brüllen komisch. Zynisch und zugleich warmherzig\, banal und zugleich erstaunlich geistreich. Eine Erklärung zu den wirklich wichtigen Dingen\, warum es so viel davon gibt und warum wir so wenig davon haben.

Die Allgemeine Zeitung Mainz schreibt zu ihm: „Federleicht und geschliffen. Es gibt nur wenige Kabarettisten\, die es mit Waghubingers Formulierungskunst aufnehmen können – und es gibt nur ganz wenige Kollegen\, bei denen geschliffene Texte so federleicht durch den Saal schweben“.



URL;VALUE=URI:https://bosco-gauting.de/veranstaltungen/stefan-waghubinger-ich-sags-jetzt-nur-zu-ihnen
SUMMARY:Stefan Waghubinger Ich sag's jetzt nur zu Ihnen // Bosco Gauting
DTSTART;TZID="W. Europe Standard Time":20220220T200000
END:VEVENT
END:VCALENDAR
