BEGIN:VCALENDAR
VERSION:2.0
PRODID:-//hacksw/handcal//NONSGML v1.0//EN
CALSCALE:GREGORIAN
BEGIN:VEVENT
DTEND;TZID="W. Europe Standard Time":20220517T210000
UID:69e735e6ec8d0
DTSTAMP:20260421T103134
LOCATION:Oberer Kirchenweg 1\, 82131 Gauting
DESCRIPTION:Alea Horst ist ohne Scheu und Zögern dorthin gereist\, wo ein Untergang von Mitmenschlichkeit sichtbar und fühlbar ist: Bosnien\, Lesbos\, Afghanistan… Im bosco Gauting präsentiert sie Aufnahmen von ihrer letzten Reise nach Afghanistan nach der Machtübernahme der Taliban 2021. Die Künstlerin zeigt mit ihren Bildern einen sehr persönlichen Einblick – die von ihr gesehenen und erlebten Realitäten – und wie wichtig es ist\, in der großen Masse den einzelnen Menschen nicht zu übersehen.

Zur Eröffnung dürfen wir uns mit Unterstützung des Förderkreis Asyl auf leckere afghanische Snacks aus Gauting freuen. Im Anschluss berichtet Alea Horst in einem Bildvortrag von ihren Erfahrungen und neuen Plänen.

Eröffnung &amp\; Bildvortrag Alea Horst Di 17.05.2022 | 19:00 | Eintritt frei\, Anmeldung über das Theaterbüro\n
Vortrag "Frauen in Afghanistan" Di 28.06.2022 | 20:00 | Eintritt frei\, Anmeldung über das Theaterbüro\n
Lesung Nahid Shahalimi So 17.07.2022 | 20:00 | Eintritt frei\, Anmeldung über das Theaterbüro (Nachholtermin für Mi 25.05.2022)\n
Führung Alea Horst Do 21.07.2022 | 17:00 | Eintritt frei\, Anmeldung über das Theaterbüro\n
Dauer der Ausstellung Bis Do 21.07.2022 zu den Öffnungszeiten des bosco und während der Abendveranstaltungen für Gäste der entsprechenden Veranstaltung



Der Besuch unserer Ausstellungen während der Öffnungszeiten des bosco ist frei. Bitte beachten Sie bei Ihrem Besuch die momentan geltenden Corona-Hinweise.

URL;VALUE=URI:https://bosco-gauting.de/veranstaltungen/alea-horst-afghanistan
SUMMARY:Alea Horst Afghanistan nach der Machtübernahme // Bosco Gauting
DTSTART;TZID="W. Europe Standard Time":20220517T190000
END:VEVENT
END:VCALENDAR
