BEGIN:VCALENDAR
VERSION:2.0
PRODID:-//hacksw/handcal//NONSGML v1.0//EN
CALSCALE:GREGORIAN
BEGIN:VEVENT
DTEND;TZID="W. Europe Standard Time":20230420T220000
UID:69e631c6d5310
DTSTAMP:20260420T160142
LOCATION:Oberer Kirchenweg 1\, 82131 Gauting
DESCRIPTION:Mit ihrer improvisatorischen Annäherung an die "Kinderszenen" Robert Schumanns verblüffte und begeisterte die Pianistin Johanna Summer Anfang 2020 Zuhörer*innen\, Medien und Kolleg*innen aus verschiedensten Richtungen gleichermaßen. Klassik-Star Igor Levit schwärmt über das Debütalbum "Schumann Kaleidoskop": "Johanna Summer ist eine herausragende Jazzpianistin. Sie ist so zentriert und bei sich\, geht so souverän und frei mit dem Material um und trifft doch die ganze Zeit ihren eigenen Ton." Piano-Poet Malakoff Kowalski fin-det die Musik schlicht "skandalös gut" und zeigt sich "hingerissen und verblüfft von einer Künstlerin\, die furchtlos der Musik folgt." Und Jazz-Ikone Joachim Kühn konstatiert: "Johanna Summers Musik ist voller Fantasie und ohne Kategorie. Von der europäischen Klassik kommend\, mit wundervollem Anschlag schafft sie etwas Vollkommenes\, Eigenes."

Es scheint\, als ginge Johanna Summer nie den einfachen Weg. Schon die Wahl des anspruchsvollen Piano-Solo-Formats für ihr Debüt und die Weiterentwicklung auf "Resonanzen" sind Beleg dafür. Und erst recht die Tatsache\, dass es sich eine junge Künstlerin in den Kopf gesetzt hat\, sich gekonnt in zwei musikalischen Disziplinen zu bewegen\, von denen jede für sich schon eine Herausforderung darstellt. Es ist erstaunlich\, wie souverän dieser Spagat auf "Resonanzen" gelingt. Johanna Summers Spiel wirkt so selbstbewusst\, so lebendig und seelenvoll. Und hinter jeder Abbiegung wartet wieder eine neue Überraschung.

JOHANNA SUMMER piano



Medienpartnerschaft:



URL;VALUE=URI:https://bosco-gauting.de/veranstaltungen/johanna-summer-schumann-kaleidoskop-nachholtermin
SUMMARY:Johanna Summer Resonanzen // Bosco Gauting
DTSTART;TZID="W. Europe Standard Time":20230420T200000
END:VEVENT
END:VCALENDAR
