BEGIN:VCALENDAR
VERSION:2.0
PRODID:-//hacksw/handcal//NONSGML v1.0//EN
CALSCALE:GREGORIAN
BEGIN:VEVENT
DTEND;TZID="W. Europe Standard Time":20221029T220000
UID:69ea77663d46a
DTSTAMP:20260423T214750
LOCATION:Oberer Kirchenweg 1\, 82131 Gauting
DESCRIPTION:Eine musikalische Lesung basierend auf Werken von Edgar Allan Poe.

Matthias Eberth ist kein unbeschriebenes Blatt in Gauting. Zusammen mit seinem Vater\, dem Schauspieler der Münchner Kammerspiele Claus Eberth\, der auch jahrzehntelang in Gauting beheimatet war\, erhielten die beiden 2005 den Publikumspreis für die Lesung „Im Schatten eines großen Mannes“\, über die problematische Beziehung zwischen Thomas Mann und seinem Sohn Klaus Mann.

Ein generationsübergreifendes Kulturereignis wiederholt sich nun mit Matthias Eberth und Tochter Luisa Eberth. Der Regisseur und Schauspieler und die Musikerin verzaubern mit einer musikalischen Lesung\, basierend auf Werken von Edgar Allan Poe. Passend zur Jahreszeit nehmen die beiden Protagonisten die Zuschauer mit in eine Welt der herbstlichen Melancholie\, der Leidenschaft und Fantasie. Matthias Eberth erzählt Geschichten über Verlust und ewige\, unsterbliche Liebe. Musikalisch mit Gesang und Klavier hat Luisa Eberth die Gedichte des großen Meisters vertont.

Lesung MATTHIAS EBERTH\n
Musikalische Komposition LUISA EBERTH\n
Illustrationen MARTIN MÜLLER\n
&nbsp\;





URL;VALUE=URI:https://bosco-gauting.de/veranstaltungen/luisa-matthias-eberth-edgar_nachholtermin
SUMMARY:Luisa & Matthias Eberth "Edgar" nach Werken von Edgar Allan Poe // Bosco Gauting
DTSTART;TZID="W. Europe Standard Time":20221029T200000
END:VEVENT
END:VCALENDAR
