BEGIN:VCALENDAR
VERSION:2.0
PRODID:-//hacksw/handcal//NONSGML v1.0//EN
CALSCALE:GREGORIAN
BEGIN:VEVENT
DTEND;TZID="W. Europe Standard Time":20221203T220000
UID:69e8896386062
DTSTAMP:20260422T104003
LOCATION:Oberer Kirchenweg 1\, 82131 Gauting
DESCRIPTION:Sarah Christian möchte die Vielfalt\, ehrliche Emotion und Energie der klassischen Musik ihren Zuhörern vermitteln. In ihrem künstlerischen Leben genießt sie es\, alle Einflüsse zu vereinen und auf nichts verzichten zu müssen: Solistin\, Konzertmeisterin der Deutschen Kammerphilharmonie Bremen\, Kammermusikerin und künstlerische Leiterin einer Kammermusikreihe in ihrer Heimatstadt Augsburg. Dabei stellt sie den höchsten Anspruch an sich selbst. Ihr Fokus bei der Auseinandersetzung mit dem Notentext liegt immer auf dem Inhalt der Musik\, dem sie sich stets mit großem Respekt nähert.

Hisako Kawamura ist Preisträgerin diverser Wettbewerbe u.a. des Concours Clara Haskil in Vevey\, des ARD-Musikwettbewerbs und des Concours Géza Anda in Zürich. Kammermusik ist ihre Leidenschaft\, bei der sie den Austausch musikalischer Ideen und Inspirationen mit den Partnermusikern sehr schätzt. So musiziert sie regelmäßig zusammen mit Musikern wie Sarah Christian\, Clemens Hagen sowie Maximilian Hornung.

Programm\n
L. v. Beethoven\, Sonate für Violine und Klavier G-Dur op. 96\n
Leos Janáček\, Sonate für Violine und Klavier\n
***\n
Richard Strauss\, Violinsonate Es-Dur op. 18



&nbsp\;

Medienpartnerschaft:



URL;VALUE=URI:https://bosco-gauting.de/veranstaltungen/sarah-christian-violine-hisako-kawamura-klavier
SUMMARY:Sarah Christian\, Violine & Hisako Kawamura\, Klavier Beethoven\, Janáček und Strauss // Bosco Gauting
DTSTART;TZID="W. Europe Standard Time":20221203T200000
END:VEVENT
END:VCALENDAR
