BEGIN:VCALENDAR
VERSION:2.0
PRODID:-//hacksw/handcal//NONSGML v1.0//EN
CALSCALE:GREGORIAN
BEGIN:VEVENT
DTEND;TZID="W. Europe Standard Time":20220925T130000
UID:69ea7c4db9192
DTSTAMP:20260423T220845
LOCATION:Oberer Kirchenweg 1\, 82131 Gauting
DESCRIPTION:Mit Speck fängt man Mäuse\,\n
mit Korn die Rebhühner und\n
mit List den bösen Zauberer.

Wem gehört das Land\, ihr Leute?

Die Katze hat es geschafft.\n
Der böse Zauberer ist tot\,\n
ihr Herr ist König und glücklich verheiratet\,\n
und sie ist erste Ministerin!

Wie sie es angestellt hat\, wird sie uns erzählen. Wie alles begann und ob alles genauso geplant war oder nicht\, werden wir ebenfalls erleben.

Und wieso kann ein König zaubern?

Von 4-10 Jahren

Regie Pierre Schäfer\n
Spiel Daniel Wagner



Gefördert von: 

&nbsp\;&nbsp\;&nbsp\;&nbsp\;&nbsp\;&nbsp\;&nbsp\;&nbsp\;&nbsp\;&nbsp\;&nbsp\;&nbsp\;&nbsp\;&nbsp\; &nbsp\;&nbsp\;&nbsp\;&nbsp\;&nbsp\;&nbsp\;&nbsp\;&nbsp\;&nbsp\;&nbsp\;&nbsp\;&nbsp\;&nbsp\;&nbsp\;&nbsp\;&nbsp\; &nbsp\; &nbsp\; &nbsp\; &nbsp\; &nbsp\; &nbsp\; &nbsp\;&nbsp\;&nbsp\;&nbsp\;&nbsp\;&nbsp\; &nbsp\; &nbsp\; &nbsp\;&nbsp\; 

&nbsp\;

URL;VALUE=URI:https://bosco-gauting.de/veranstaltungen/theater-zitadelle-berlin-die-gestiefelte-katze-nach-den-bruedern-grimm-0
SUMMARY:Theater Zitadelle Berlin "Die gestiefelte Katze" nach den Brüdern Grimm // Bosco Gauting
DTSTART;TZID="W. Europe Standard Time":20220925T110000
END:VEVENT
END:VCALENDAR
