BEGIN:VCALENDAR
VERSION:2.0
PRODID:-//hacksw/handcal//NONSGML v1.0//EN
CALSCALE:GREGORIAN
BEGIN:VEVENT
DTEND;TZID="W. Europe Standard Time":20230121T220000
UID:69e5e57145312
DTSTAMP:20260420T103601
LOCATION:Oberer Kirchenweg 1\, 82131 Gauting
DESCRIPTION:Vater und Tochter stehen wieder gemeinsam auf der bosco-Bühne. Der aus Aruba stammende Wally Warning zählt seit vielen Jahren zu den festen Größen der Münchner Musiklandschaft. Im Bereich zwischen Reggae und Soul schuf er eine ganze Reihe von Hits und arbeitet aktuell an immer neuen Songs. Seine Tochter Ami feiert seit einiger Zeit als Solo-Künstlerin große Erfolge\, zuletzt auch mit deutschsprachigen Liedern. Ami hat bisher vier Alben veröffentlicht und wird daraus einige Songs spielen. Wally und Ami planen ein gemeinsames Live-Album\, das bis zum Auftritt im bosco erscheinen soll.

"(Wallys) Titel heißen »Thankful« und »Hope« und »Take Life« und erzählen von positiver Demut\, von der niemals versiegenden Kraft der Liebe (»Love Can Save Us«) und von der Hoffnung\, dass diese Kraft die aus den Fugen geratene Welt retten wird. Wem das vielleicht zu missionarisch erscheint\, der muss Wally nur dabei zuschauen\, wie er diese simple Botschaft mit seinem karibischen Lächeln aussendet\, das keine Glaubensfragen mehr offen lässt. Tochter Ami hat diesen unwiderstehlichen Wally-Spirit natürlich geerbt\, aber als Sängerin ist sie mit ihrer aufregend dunklen Stimme fast so etwas wie ein Kontrapunkt zum sonnigen Gemüt des Vaters." THOMAS LOCHTE\, NACH(T)KRITIK\n
\n
WALLY WARNING\, Gesang\, Gitarre\, Cuatro\, Ukulele\, Bass\, Shrutibox\n
AMI WARNING\, Gesang\, Gitarre\, Bass



URL;VALUE=URI:https://bosco-gauting.de/veranstaltungen/wally-ami-warning
SUMMARY:Wally & Ami Warning groove and soul // Bosco Gauting
DTSTART;TZID="W. Europe Standard Time":20230121T200000
END:VEVENT
END:VCALENDAR
