BEGIN:VCALENDAR
VERSION:2.0
PRODID:-//hacksw/handcal//NONSGML v1.0//EN
CALSCALE:GREGORIAN
BEGIN:VEVENT
DTEND;TZID="W. Europe Standard Time":20220924T220000
UID:69eb5c9e71b3e
DTSTAMP:20260424T140550
LOCATION:Oberer Kirchenweg 1\, 82131 Gauting
DESCRIPTION:Erst eine rauschende Premiere am Residenztheater und dann brutal ausgebremst zunächst durch Corona\, dann einem Intendantenwechsel. Wir holen das Fest nach und werden Sie in den Süden entführen\, wo die Melancholie nicht blau ist\, sondern kirschschwarz. Musik für Männer der Nachkriegszeit und für Frauen mit gutem Geschmack.

"Ein Paolo-Conte-Liederabend ohne Paolo Conte also. Michele Cuciuffo versucht gar nicht erst\, den eigenwilligen Bassbariton des Vorbilds nachzuahmen\, sondern wirft sich mit sympathischer Chuzpe in eine sehr eigene\, persönliche Interpretation. Mit Charme und dem Glück\, über ansteckend gute Laune zu verfügen\, entert Cuciuffo den Saal.“ Münchner Merkur

MICHELE CUCIUFFO\, Gesang\, Percussion\n
PETER WEGELE\, Klavier\, Arrangements\n
TOBIAS WEBER\, Bass\, Gitarre\, Banjo\, Arrangements\n
MATTHIAS NOACK\, Saxophon\, Klarinette\, Fagott\n
BJÖRN KELLERSTRASS\, Schlagzeug


&nbsp\;

URL;VALUE=URI:https://bosco-gauting.de/veranstaltungen/michele-cuciuffo-band-michele-singt-paolo-conte-nicht
SUMMARY:Michele Cuciuffo & Band Michele singt\, Paolo Conte nicht // Bosco Gauting
DTSTART;TZID="W. Europe Standard Time":20220924T200000
END:VEVENT
END:VCALENDAR
