BEGIN:VCALENDAR
VERSION:2.0
PRODID:-//hacksw/handcal//NONSGML v1.0//EN
CALSCALE:GREGORIAN
BEGIN:VEVENT
DTEND;TZID="W. Europe Standard Time":20230120T220000
UID:69ed29a9da25f
DTSTAMP:20260425T225257
LOCATION:Oberer Kirchenweg 1\, 82131 Gauting
DESCRIPTION:Ein am Humorstandort Deutschland einzigartiges Kabarett-Projekt: Der Kölner Kabarettist Robert Griess schart jedes Jahr aufs Neue drei Kabarett-Kollegen um sich\, um als Ensemble abzurechnen mit allem\, was quer und schief läuft. Jeder der Künstler für sich ist schon ein Komik-Knaller am Humorstandort Deutschland – als Ensemble aber sind sie noch mehr als nur die Summe ihrer Einzeltalente. Gemeinsam rechnen sie ab mit all dem Wahn- und Schwachsinn um uns herum. Aktuell\, abwechslungsreich und aberwitzig! Live-Kabarett nach dem Motto „Wer heilige Kühe ehrt\, ist fromm. Wer heilige Kühe schlachtet\, wird satt“.\n
Serviert mit allen Zutaten\, die es zu einem zünftigen Schlachtfest braucht: Vom sarkastischen Stand-up-Monolog bis zur satirischen Massenszene\, vom sozialkritischen Song bis zum spaßigen Sketch wird nichts ausgelassen\, um das Publikum zwei Stunden lang auf höchstem Niveau zum Rasen zu bringen.

ROBERT GRIESS ist einer der prägenden Polit-Kabarettisten\, die wir haben und hat laut Kölner Stadt-Anzeiger „die schnellste und frechste Klappe von Köln“. Er organisiert seit 2006 die Schlachtplatte. SEBASTIAN SCHNOY ist Standup-Comedian auf Hamburg und Bestsellerautor. Er hat als studierter Historiker den Blick auf die großen Zusammenhänge\, JENS HEINRICH CLAASSEN ist der lustigste Musik-Comedian der Republik und KATHI WOLF ist eine Kabarettistin der nächsten Generation\, die kein Blatt vor den Mund nimmt und als studierte Psychologin auch noch lustige Ratschläge für alle Lebenslagen parat hält. Zusammen sind sie das Kabarettistische Quartett der deutschen Kleinkunstszene.



URL;VALUE=URI:https://bosco-gauting.de/veranstaltungen/schlachtplatte-die-endabrechnung-2022
SUMMARY:Schlachtplatte Die Jahres-Endabrechnung 2022 // Bosco Gauting
DTSTART;TZID="W. Europe Standard Time":20230120T200000
END:VEVENT
END:VCALENDAR
