BEGIN:VCALENDAR
VERSION:2.0
PRODID:-//hacksw/handcal//NONSGML v1.0//EN
CALSCALE:GREGORIAN
BEGIN:VEVENT
DTEND;TZID="W. Europe Standard Time":20230419T220000
UID:69e634ecba1e1
DTSTAMP:20260420T161508
LOCATION:Oberer Kirchenweg 1\, 82131 Gauting
DESCRIPTION:Nach neun erfolgreichen und preisgekrönten Programm-Volumen plus diverser Nebenprojekte wäre es nun an der Zeit für die Jubiläumsauflage – doch statt zurückzuschauen\, lehnen sich die beiden anerkannten Experten des eleganten Sprechgesangs ziemlich weit aus ihrem Zeitfenster und präsentieren: Volumen X.

Die ganz neue Generation Chanson als Spiegelbild der unsanft erwachten 20er. Eine scharfsinnige Analyse der Grenzen moderner Salonfähigkeit und ein xmalkluger Parcours durch die Stolperfallen der Rhetorik – schon an mittelalterlichen Universitäten wurde gelehrt\, lieber die Gesprächspartner*innen rhetorisch zu diskreditieren\, als sich mit Content aufzuhalten.

Ganz nebenbei entlarven Pigor &amp\; Eichhorn mit präzisierter Übersetzung die vermeintlich wohlbekannte Ballade „Ne me quitte pas“ als feuchten Stalker-Traum. Volumen X: Willkommen in der Zeitgeisterbahn.



URL;VALUE=URI:https://bosco-gauting.de/veranstaltungen/pigor-eichhorn-volumen-x
SUMMARY:Pigor & Eichhorn Volumen X // Bosco Gauting
DTSTART;TZID="W. Europe Standard Time":20230419T200000
END:VEVENT
END:VCALENDAR
