BEGIN:VCALENDAR
VERSION:2.0
PRODID:-//hacksw/handcal//NONSGML v1.0//EN
CALSCALE:GREGORIAN
BEGIN:VEVENT
DTEND;TZID="W. Europe Standard Time":20221110T210000
UID:69ea65d2bb2ca
DTSTAMP:20260423T203250
LOCATION:Oberer Kirchenweg 1\, 82131 Gauting
DESCRIPTION:Romeo und Julia – Shakespeares berühmte Liebestragödie\, so unsterblich wie die Liebe selbst. Unter der Leitung von Regisseur Ulf Goerke entwickelt das inklusive Ensemble der Freien Bühne München ihre ganz eigene Version der bekannten dramatischen Verstrickungen.\n
Wie hoch ist der Preis für Versöhnung und Frieden oder können sich die\n
Liebenden doch noch gegen ihr feindliches Umfeld behaupten? Wer\n
gewinnt diesen spannungsgeladenen Kampf der Gefühle zwischen der Macht\n
der Liebe und der Liebe zur Macht?

Erscheinen Sie rechtzeitig\, es ist freie Platzwahl. 

Die Vorstellung findet mit Übertitelung und Gebärdendolmetschung statt. 

Mit anschließendem Publikumsgespräch.

Mit:&nbsp\;Dennis Fell-Hernandez\, Lena Flögel\, Natalie Lehmann\, David Martinez Morente\, Georg Stephan\, Mara Widmann

Regie:&nbsp\;Ulf Goerke\n
Regieassistenz:&nbsp\;Hannah Remmel\n
Dramaturgie:&nbsp\;Florentina Ileana Tautu\n
Ausstattung:&nbsp\;Marie Jaksch\n
Ausstattungsassistenz:&nbsp\;Thalia Schoeller\n
Musik:&nbsp\;Enik\n
Tourmanagement/Technik:&nbsp\;Jan Meyer\n
Grafik-Design:&nbsp\;Felix Kempf\n
Pressearbeit:&nbsp\;Barbara Fleischmann-Tarabochia\n
Co-Produktionsleitung\, Geschäftsführung:&nbsp\;Marie-Elise Fell\n
Co-Produktionsleitung\, Gesamtleitung:&nbsp\;Angelica Fell

&nbsp\;

&nbsp\;

URL;VALUE=URI:https://bosco-gauting.de/veranstaltungen/freie-buehne-muenchen-romeo-julia
SUMMARY:Freie Bühne München Romeo & Julia // Bosco Gauting
DTSTART;TZID="W. Europe Standard Time":20221110T190000
END:VEVENT
END:VCALENDAR
