BEGIN:VCALENDAR
VERSION:2.0
PRODID:-//hacksw/handcal//NONSGML v1.0//EN
CALSCALE:GREGORIAN
BEGIN:VEVENT
DTEND;TZID="W. Europe Standard Time":20221008T220000
UID:69ebe2390854b
DTSTAMP:20260424T233553
LOCATION:Oberer Kirchenweg 1\, 82131 Gauting
DESCRIPTION:Vom langjährigen Erfolgsdruck ausgebrannt und angesichts einer erschreckenden Diagnose\, sucht der Orchesterleiter Florian Hochberger in dem kleinen Haus seiner verstorbenen Großmutter Ruhe und Erholung.

Doch die aus Kindertagen in Erinnerung gebliebene Idylle trügt. Grau\, trist und geprägt von gegenseitigem Misstrauen ist die Atmosphäre in Oberaschham\, einem kleinen Dorf an der Grenze.

Durch das Zusammentreffen des Musikers mit dem örtlichen Chor geraten Dinge in Bewegung und verkrustete Strukturen brechen auf.

&nbsp\;

URL;VALUE=URI:https://bosco-gauting.de/veranstaltungen/institut-fuer-jugendarbeit-farben-fuer-den-winter
SUMMARY:Institut für Jugendarbeit Farben für den Winter // Bosco Gauting
DTSTART;TZID="W. Europe Standard Time":20221008T200000
END:VEVENT
END:VCALENDAR
