BEGIN:VCALENDAR
VERSION:2.0
PRODID:-//hacksw/handcal//NONSGML v1.0//EN
CALSCALE:GREGORIAN
BEGIN:VEVENT
DTEND;TZID="W. Europe Standard Time":20230607T160000
UID:69ea22432c478
DTSTAMP:20260423T154435
LOCATION:Oberer Kirchenweg 1\, 82131 Gauting
DESCRIPTION:Die Gemeinde Gauting veranstaltet jeden ersten Mittwoch im Monat ab 14 Uhr einen\n
Seniorennachmittag mit Kaffee und Kuchen im bosco. Schauen Sie doch mal vorbei!

URL;VALUE=URI:https://bosco-gauting.de/node/4032
SUMMARY:Gemeinde Gauting Seniorencafé // Bosco Gauting
DTSTART;TZID="W. Europe Standard Time":20230607T140000
END:VEVENT
END:VCALENDAR
