BEGIN:VCALENDAR
VERSION:2.0
PRODID:-//hacksw/handcal//NONSGML v1.0//EN
CALSCALE:GREGORIAN
BEGIN:VEVENT
DTEND;TZID="W. Europe Standard Time":20240303T160000
UID:69e73499b03b1
DTSTAMP:20260421T102601
LOCATION:Oberer Kirchenweg 1\, 82131 Gauting
DESCRIPTION:In seiner künstlerischen Arbeit beschäftigt sich Toni Schade mit dem gebauten Raum als Abbild menschlichen Seins und Wirkens. Die Ausstellung Neonatur stellt Fotografien von alpinen Infrastrukturen und urbanen Räumen gegenüber. Seine Bilder stellen die Frage nach der menschlichen Natur\, ihren Räumen und deren Beziehungen.

Biografie\n
Toni Schade (*1982 in Genf) studierte in Innsbruck und Lissabon Architektur. Die intensive Beschäftigung mit Fotografie geschieht bereits weit davor\, noch zu analogen Zeiten. Der Schwerpunkt seiner künstlerischen Tätigkeit ist die fotografische Auseinandersetzung mit alpinen und gebauten Räumen. Toni Schade lebt und arbeitet in Innsbruck.

&nbsp\;

Zum Themenschwerpunkt "Lebensraum im Anthropozän"\n
Der Themenschwerpunkt "Lebensraum im Anthropozän" geht der Frage nach\, wie das Zeitalter des Menschen die Natur unseres Planeten verändert hat. Welches architektonische Bild lässt sich über diesen Zeitraum der Erdgeschichte zeichnen und wie finden wir Menschen uns in dieser Architektur wieder?

Ausstellungseröffnung &amp\; Vortrag Di 23.01.2024 | 19:00 | Eintritt frei\, Voranmeldung erwünscht\n
Kurzfilmabend Fr 02.02.2024 | 20:00 | Eintritt € 8\,00\n
Ausstellungsführung So 03.03.2024 | 14:00 | Eintritt frei\, Voranmeldung erwünscht\n
Dauer der Ausstellung Bis Fr 22.03.2024 zu den Öffnungszeiten des bosco und während der Abendveranstaltungen

Der Besuch unserer Ausstellungen während der Öffnungszeiten des bosco ist frei.

URL;VALUE=URI:https://bosco-gauting.de/veranstaltungen/toni-schade-neonatur-f%C3%BChrung
SUMMARY:Führung zur Ausstellung Toni Schade // Bosco Gauting
DTSTART;TZID="W. Europe Standard Time":20240303T140000
END:VEVENT
END:VCALENDAR
