BEGIN:VCALENDAR
VERSION:2.0
PRODID:-//hacksw/handcal//NONSGML v1.0//EN
CALSCALE:GREGORIAN
BEGIN:VEVENT
DTEND;TZID="W. Europe Standard Time":20231114T220000
UID:69e9e3c61710a
DTSTAMP:20260423T111758
LOCATION:Oberer Kirchenweg 1\, 82131 Gauting
DESCRIPTION:&nbsp\;Für Kasimir nicht so einfach\, erst gestern hat er die Kündigung erhalten. Die Wege der beiden trennen sich. Während sich Karoline anderweitig orientiert - zahlungskräftige männliche Begleitung ist reichlich zur Stelle -\, betrinkt sich Kasimir und lässt sich auf den Merkl Franz ein\, einen kleinkriminellen Bekannten... Immer wieder kreuzen sich die Wege von Kasimir und Karoline\, sie nähern sich an\, kämpfen umeinander\, missverstehen sich - bis sie sich ganz verlieren.

Zwei Welten prallen aufeinander und verbinden sich zu einer explosiven Mischung - eingelullt von Konsum und Unterhaltung die einen\, aufgestachelt von Perspektivlosigkeit und Abstiegsängsten die anderen. Hinter der Fassade aus blinkenden Lichtern entgleist die Oktoberfest-Gesellschaft…

Mit "Kasimir und Karoline" &nbsp\;gelingt Horváth ein berührendes Psychogramm über Aufstiegswillen und Abstiegsängste\, über die unstillbare Sehnsucht nach Nähe und die Karriere der Kälte. Diese kalte Empathielosigkeit hat heute Konjunktur in den sozialen Netzwerken. Horváth zeichnet Bilder einer entfremdeten Gesellschaft\, der der Mangel an Mitgefühl anhaftet. Das macht ihn heute wieder modern: Was kostet die Welt und wer zahlt das alles?

Regie &amp\; Inszenierung REINHARDT FRIESE\n
Musikalische Leitung FRANZ TRÖGER\n
Bühne und Kostüme ANNETTE MAHLENDORF\n
Dramaturgie PHILIPP BRAMMER\n
Regieassistenz MONJA UCYK\n
Produktionsassistenz SAMUEL WOLFRAM\n
Inspizienz REINHARD STEINERT\n
Mit BENJAMIN MUTH\, CAROLIN WALTSGOTT\, RALF HOCKE\, VOLKER RINGE\, OLIVER HILDEBRANDT\, DOMINIQUE BALS\, ALRUN HERBING\, JULIA LEINWEBER\, CORNELIA WÖSS\, JÖRN BREGENZER\, FRANZ TRÖGER\, CORNELIA LÖHR

Einführung 19:15 Uhr\n
Dauer 1.35 Std.\, keine Pause

\n
&nbsp\;

URL;VALUE=URI:https://bosco-gauting.de/veranstaltungen/theater-hof-kasimir-und-karoline-1
SUMMARY:Theater Hof "Kasimir und Karoline" Volksstück von Ödön von Horváth  // Bosco Gauting
DTSTART;TZID="W. Europe Standard Time":20231114T200000
END:VEVENT
END:VCALENDAR
