BEGIN:VCALENDAR
VERSION:2.0
PRODID:-//hacksw/handcal//NONSGML v1.0//EN
CALSCALE:GREGORIAN
BEGIN:VEVENT
DTEND;TZID="W. Europe Standard Time":20240411T210000
UID:69e8cf0e42a8a
DTSTAMP:20260422T153718
LOCATION:Oberer Kirchenweg 1\, 82131 Gauting
DESCRIPTION:Gegen Ende des II. Weltkrieges und in den ersten Jahren danach kamen in Gauting und Umgebung tausende Heimatvertriebene und Flüchtlinge an. Sie alle suchten neben einem neuen Zuhause auch Arbeit\, um ihren Lebensunterhalt neu bestreiten zu können. Oft hatte eine gefundene Arbeit mit der in der alten Heimat nichts zu tun\, half aber beim Neubeginn. Aus Interviews mit Betroffenen bereitet die Gesellschaft für Archäologie und Geschichte – Oberes Würmtal e.V. eine Dokumentation vor. Teilarbeiten daraus werden in dem Vortrag vorgestellt. 

Die GESELLSCHAFT FÜR ARCHÄOLOGIE UND GESCHICHTE wurde 1998 gegründet\, weil immer mehr Zeugnisse aus der römischen Vergangenheit ans Tageslicht kamen und die Zeitzeugen der Nazi-Zeit immer weniger wurden. Sie sieht ihre Aufgabe darin\, das Interesse der Bevölkerung an der heimatlichen Archäologie und Geschichte durch Forschungen\, Publikationen und Vorträge zu fördern und zur Erhaltung bedeutender Kulturgüter beizutragen.

&nbsp\;

Zur Ausstellung&nbsp\; "Museum auf Zeit. Mausefallen für Dich - Zigarren für die Welt"\n
Das Gautinger Kulturhaus bosco verwandelt sich für wenige Tage in ein Museum auf Zeit: Mit Objekten aus der reichhaltigen Sammlung des Unterbrunner Sammlers Hermann Geiger sowie Ergänzungen aus dem Fundus der Firma Webasto\, der ehemaligen Austria Tabakregie und dem Archiv der Gemeinde Gauting entsteht eine Reise in die Vergangenheit\, in die Frühzeit der Industrialisierung Gautings.

Öffnungszeiten der Ausstellung\n
Fr 05.04. | Sa 06.04. | So 07.04. | Do 11.04. | Fr 12.04. | Sa\, 13.04. | So 14.04.\n
jeweils von 14:00 - 18:00

Programm zur Ausstellung&nbsp\; "Museum auf Zeit"\n
Workshop Metallwerkstatt Sa 06.04.2024 | 14:00 - 18:00 | Eintritt € 12\,00 (Kinder)\, € 20\,00 (Erwachsene) | Anmeldung*\n
Workshop Buchbindewerkstatt So 07.04.2024 | 14:00 - 18:00 | Eintritt € 12\,00 (Kinder)\, € 20\,00 (Erwachsene) | Anmeldung*\n
Vortrag&nbsp\;&nbsp\; "Die Zukunft der Arbeit" Di 09.04.2024 | 20:00 | Eintritt frei |&nbsp\; Anmeldung*\n
Lesung&nbsp\; "Liebesbriefe aus der Papierfabrik" Mi 10.04.2024 | 20:00 | Eintritt frei |&nbsp\; Anmeldung*\n
Vortrag&nbsp\; "Arbeitssituation der Weltkriegsflüchtlinge" Do 11.04.2024 | 19:00 | Eintritt frei |&nbsp\; Anmeldung*\n
Führungen mit Hermann Geiger Fr 12.04.2024 | 18:00&nbsp\; + 19:00 | Eintritt frei |&nbsp\; Anmeldung*\n
Führung für blinde und sehbehinderte Gäste Sa 13.04.2024 | 10:30 | Eintritt frei |&nbsp\; Anmeldung*\n
Führungen mit Hermann Geiger Sa 13.04.2024 | 18:00&nbsp\; + 19:00&nbsp\; | Eintritt frei |&nbsp\; Anmeldung*\n
Führung mit Hermann Geiger So 14.04.2024 | 17:45 &nbsp\; | Eintritt frei |&nbsp\; Anmeldung*

*Wegen begrenzter Plätze unter: ausstellung@theaterforum.de

&nbsp\;


Unterstützt von 

 

&nbsp\;&nbsp\; &nbsp\; &nbsp\; &nbsp\;&nbsp\;&nbsp\; &nbsp\; &nbsp\;&nbsp\;  &nbsp\;&nbsp\; &nbsp\;&nbsp\; &nbsp\;  

&nbsp\;&nbsp\;&nbsp\;&nbsp\;&nbsp\;&nbsp\;&nbsp\;&nbsp\;&nbsp\;&nbsp\;&nbsp\;&nbsp\;&nbsp\;&nbsp\;&nbsp\;&nbsp\; &nbsp\; &nbsp\; &nbsp\;&nbsp\; &nbsp\; &nbsp\; &nbsp\;  &nbsp\;&nbsp\;&nbsp\;&nbsp\;&nbsp\;&nbsp\;&nbsp\;&nbsp\;&nbsp\;&nbsp\;&nbsp\;&nbsp\;&nbsp\;&nbsp\;&nbsp\;&nbsp\;&nbsp\;&nbsp\;&nbsp\;&nbsp\;&nbsp\;&nbsp\;&nbsp\;&nbsp\;&nbsp\;&nbsp\;&nbsp\;&nbsp\;&nbsp\;&nbsp\;&nbsp\;&nbsp\;&nbsp\;&nbsp\;&nbsp\; &nbsp\; &nbsp\;&nbsp\; &nbsp\; &nbsp\; 

&nbsp\;





&nbsp\;




URL;VALUE=URI:https://bosco-gauting.de/veranstaltungen/vortrag-zur-ausstellung-arbeitssituation-der-weltkriegsfluechtlinge-und
SUMMARY:Vortrag zur Ausstellung "Arbeitssituation der Weltkriegsflüchtlinge und Vertriebenen im Würmtal" // Bosco Gauting
DTSTART;TZID="W. Europe Standard Time":20240411T190000
END:VEVENT
END:VCALENDAR
