BEGIN:VCALENDAR
VERSION:2.0
PRODID:-//hacksw/handcal//NONSGML v1.0//EN
CALSCALE:GREGORIAN
BEGIN:VEVENT
DTEND;TZID="W. Europe Standard Time":20240413T123000
UID:69e986513123f
DTSTAMP:20260423T043913
LOCATION:Oberer Kirchenweg 1\, 82131 Gauting
DESCRIPTION:Die Führung für blinde und sehbehinderte Menschen durch die Ausstellung "Museum auf Zeit. Mausefallen für Dich - Zigarren für die Welt" findet am Sa\, 13.04.2024 um 10:30 Uhr statt. Die Dauer des Rundgangs beträgt 60 bis 90 Minuten. Eine Vielzahl von Exponaten\, die aus unserem Alltag verschwunden sind\, kann berührt werden. Dazu gibt es spannende Berichte und Wissenswertes aus der Vergangenheit.

CLAUDIA BÖHME studierte Geschichte und Literaturwissenschaften\, anschließend Fachdidaktische Vermittlungswissenschaften für die Fächer Geschichte und Kunstpädagogik\, an der Universität Augsburg. Sie arbeitet als Freie Kulturvermittlerin\, als Autorin in der Audiodeskription und berät Museen bei der Planung und Umsetzung von Angeboten für blinde und sehbehinderte Menschen.

Treffpunkt\n
Foyer im Erdgeschoss\, bosco Bürger- und Kulturhaus\, Oberer Kirchenweg 1\, 82131 Gauting

Anmeldung\n
per E-Mail an ausstellung@theaterforum.de oder telefonisch unter 089-45238580



&nbsp\;

Zur Ausstellung&nbsp\; "Museum auf Zeit. Mausefallen für Dich - Zigarren für die Welt"\n
Das Gautinger Kulturhaus bosco verwandelt sich für wenige Tage in ein Museum auf Zeit: Mit Objekten aus der reichhaltigen Sammlung des Unterbrunner Sammlers Hermann Geiger sowie Ergänzungen aus dem Fundus der Firma Webasto\, der ehemaligen Austria Tabakregie und dem Archiv der Gemeinde Gauting entsteht eine Reise in die Vergangenheit\, in die Frühzeit der Industrialisierung Gautings.

Öffnungszeiten der Ausstellung\n
Fr 05.04. | Sa 06.04. | So 07.04. | Do 11.04. | Fr 12.04. | Sa\, 13.04. | So 14.04.\n
jeweils von 14:00 - 18:00

Programm zur Ausstellung&nbsp\; "Museum auf Zeit"\n
Workshop Metallwerkstatt Sa 06.04.2024 | 14:00 - 18:00 | Eintritt € 12\,00 (Kinder)\, € 20\,00 (Erwachsene) | Anmeldung*\n
Workshop Buchbindewerkstatt So 07.04.2024 | 14:00 - 18:00 | Eintritt € 12\,00 (Kinder)\, € 20\,00 (Erwachsene) | Anmeldung*\n
Vortrag&nbsp\;&nbsp\; "Die Zukunft der Arbeit" Di 09.04.2024 | 20:00 | Eintritt frei |&nbsp\; Anmeldung*\n
Lesung&nbsp\; "Liebesbriefe aus der Papierfabrik" Mi 10.04.2024 | 20:00 | Eintritt frei |&nbsp\; Anmeldung*\n
Vortrag&nbsp\; "Arbeitssituation der Weltkriegsflüchtlinge" Do 11.04.2024 | 19:00 | Eintritt frei |&nbsp\; Anmeldung*\n
Führungen mit Hermann Geiger Fr 12.04.2024 | 18:00&nbsp\; + 19:00 | Eintritt frei |&nbsp\; Anmeldung*\n
Führung für blinde und sehbehinderte Gäste Sa 13.04.2024 | 10:30 | Eintritt frei |&nbsp\; Anmeldung*\n
Führungen mit Hermann Geiger Sa 13.04.2024 | 18:00&nbsp\; + 19:00&nbsp\; | Eintritt frei |&nbsp\; Anmeldung*\n
Führung mit Hermann Geiger So 14.04.2024 | 17:45 &nbsp\; | Eintritt frei |&nbsp\; Anmeldung*

*Wegen begrenzter Plätze unter: ausstellung@theaterforum.de

&nbsp\;

Unterstützt von 

 

&nbsp\;&nbsp\; &nbsp\; &nbsp\; &nbsp\;&nbsp\;&nbsp\; &nbsp\; &nbsp\;&nbsp\;  &nbsp\;&nbsp\; &nbsp\;&nbsp\; &nbsp\;  

&nbsp\;&nbsp\;&nbsp\;&nbsp\;&nbsp\;&nbsp\;&nbsp\;&nbsp\;&nbsp\;&nbsp\;&nbsp\;&nbsp\;&nbsp\;&nbsp\;&nbsp\;&nbsp\; &nbsp\; &nbsp\; &nbsp\;&nbsp\; &nbsp\; &nbsp\; &nbsp\;  &nbsp\;&nbsp\;&nbsp\;&nbsp\;&nbsp\;&nbsp\;&nbsp\;&nbsp\;&nbsp\;&nbsp\;&nbsp\;&nbsp\;&nbsp\;&nbsp\;&nbsp\;&nbsp\;&nbsp\;&nbsp\;&nbsp\;&nbsp\;&nbsp\;&nbsp\;&nbsp\;&nbsp\;&nbsp\;&nbsp\;&nbsp\;&nbsp\;&nbsp\;&nbsp\;&nbsp\;&nbsp\;&nbsp\;&nbsp\;&nbsp\; &nbsp\; &nbsp\;&nbsp\; &nbsp\; &nbsp\; 

&nbsp\;

URL;VALUE=URI:https://bosco-gauting.de/veranstaltungen/fuehrung-zur-ausstellung-fuehrung-fuer-blinde-und-sehbehinderte-gaeste
SUMMARY:Führung zur Ausstellung Führung für blinde und sehbehinderte Gäste // Bosco Gauting
DTSTART;TZID="W. Europe Standard Time":20240413T103000
END:VEVENT
END:VCALENDAR
