BEGIN:VCALENDAR
VERSION:2.0
PRODID:-//hacksw/handcal//NONSGML v1.0//EN
CALSCALE:GREGORIAN
BEGIN:VEVENT
DTEND;TZID="W. Europe Standard Time":20241206T220000
UID:69e7e950364ed
DTSTAMP:20260421T231704
LOCATION:Oberer Kirchenweg 1\, 82131 Gauting
DESCRIPTION:Es gibt nichts Neues unter der Sonne\, heißt es. Aber dafür unter den zwei Mützen von Ulan &amp\; Bator!

UNDSINN.

Nach ihrem Programm ZUKUNST (Deutscher Kabarettpreis 2022) der nächste Wurf der zwei intellektuellen Clowns des deutschen Kabaretts.

Nunmehr im 24. Jahr forschen sie weiter an ihrem „Krazy Kabarett“\, wie sie es nennen.\n
\n
Niemand sonst&nbsp\; im deutschsprachigen Raum verbindet Poesie\, Comedy\, Kabarett\, Sprachspiel\, Körperperformance\, Tanz und Gesang\, derart grenzgängerisch und doch zugänglich\, zu einem Kunstwerk.

Ihr einzigartiger Humor\, der längst über Vergleiche mit Monty Python und Loriot hinaus geht\, lässt sie souverän auf dem dünnen Seil tanzen zwischen Tiefe\, Musikalität\, Jux\, Philosophie und Gesellschaftskritik.

UNDSINN eben.

Ulan &amp\; Bator das sind:\n
Frank Smilgies &amp\; Sebastian Rüger



URL;VALUE=URI:https://bosco-gauting.de/veranstaltungen/ulan-bator-undsinn
SUMMARY:Ulan & Bator Undsinn // Bosco Gauting
DTSTART;TZID="W. Europe Standard Time":20241206T200000
END:VEVENT
END:VCALENDAR
