BEGIN:VCALENDAR
VERSION:2.0
PRODID:-//hacksw/handcal//NONSGML v1.0//EN
CALSCALE:GREGORIAN
BEGIN:VEVENT
DTEND;TZID="W. Europe Standard Time":20241207T220000
UID:69e7ea4301252
DTSTAMP:20260421T232107
LOCATION:Oberer Kirchenweg 1\, 82131 Gauting
DESCRIPTION:Christopher\, 12 Jahre\, Mathematikgenie und Autist (Asperger Syndrom)\, möchte gerne das Abitur machen. Doch das ist in einer Sonderschule nicht ganz einfach. Nach dem überraschenden Tod seiner Mutter lebt er bei seinem Vater\, der sich liebevoll um ihn kümmert\, aber von Gefühlen versteht Christopher nur sehr wenig. Darum kümmert er sich lieber um den Pudel der Nachbarin.\n
Als er eines Tages den Hund tot im Garten findet\, beschließt er\, ein Buch zu schreiben und den Mörder des Hundes zu finden. Bei seinen "Ermittlungen" stößt er auf ein Geheimnis seines Vaters\, das seine kleine\, heile Welt mehr als bedroht …

[…] Mit seiner warmen\, dunklen Stimme nimmt Beck die Zuhörer mit in die sonderbare Welt des Christopher Boone\, den der Autor Mark Haddon faszinierend anschaulich beschreibt. […] Dass sich Rufus Beck mit großer Sensibilität in die Psyche und Denkweise eines Autisten einfühlen kann\, ist vom ersten Moment an zu spüren. […] \n
KARIN HEININGER

Text MARK HADDON\n
Musik PARVIZ MIR-ALI

URL;VALUE=URI:https://bosco-gauting.de/veranstaltungen/rufus-beck-supergute-tage-eine-multimediale-lesung-mit-film-und-musik
SUMMARY:Rufus Beck Supergute Tage - Eine multimediale Lesung mit Film und Musik // Bosco Gauting
DTSTART;TZID="W. Europe Standard Time":20241207T200000
END:VEVENT
END:VCALENDAR
