BEGIN:VCALENDAR
VERSION:2.0
PRODID:-//hacksw/handcal//NONSGML v1.0//EN
CALSCALE:GREGORIAN
BEGIN:VEVENT
DTEND;TZID="W. Europe Standard Time":20241124T180000
UID:69e7c02327a5f
DTSTAMP:20260421T202123
LOCATION:Oberer Kirchenweg 1\, 82131 Gauting
DESCRIPTION:Dieses Mal widmet sich Stefan Berchtold der Welt der Ehrenamtlichen und Freiwilligen. Ohne sie wäre vieles nicht möglich: Kulturelles Leben\, Sportvereine und lebensnotwendige Infrastrukturen wie die Freiwillige Feuerwehr werden durch das ehrenamtliche Engagement von Gautinger*innen aufrechterhalten. Oft organisiert durch Vereine oder informelle Initiativen\, werden professionelle Leistungen erbracht\, während finanzielle und bürokratische Herausforderungen bewältigt werden müssen.\n
Wie geht’s euch\, ihr Ehrenamtlichen\, Freiwilligen\, Begeisterten und Leidenschaftlichen? Warum macht ihr es (noch)? Wo drückt der Schuh und was wollt ihr uns schon lange sagen?

Mit
ROBERT FRANK\, TV Stockdorf
MONIKA BEZDEK\, Eltern-Kind-Programm e.V.
BENJAMIN STETTER\, Energiewendeverein
CONSTANZE HÖPNER\, Feuerwehr Unterbrunn
JASMIN KLINGAN\, Musikschule Gauting

URL;VALUE=URI:https://bosco-gauting.de/veranstaltungen/talking-heads-3
SUMMARY:Talking Heads - Der Talk im bosco Stefan Berchtold spricht mit Freiwilligen & Ehrenamtlichen // Bosco Gauting
DTSTART;TZID="W. Europe Standard Time":20241124T160000
END:VEVENT
END:VCALENDAR
