BEGIN:VCALENDAR
VERSION:2.0
PRODID:-//hacksw/handcal//NONSGML v1.0//EN
CALSCALE:GREGORIAN
BEGIN:VEVENT
DTEND;TZID="W. Europe Standard Time":19700101T010000
UID:69e7a3b78d617
DTSTAMP:20260421T182007
LOCATION:Oberer Kirchenweg 1\, 82131 Gauting
DESCRIPTION:Im Themenschwerpunkt „Jüdisch. Deutsch. Ganz normal.“ treffen wir Menschen an ihren Lieblingsorten\, erleben einen lebhaft-authentischen Kurzfilm sowie eine anrührende Culture-Clash-Komödie\, begeben uns auf eine musikalische Reise und befassen uns mit den Auswirkungen des Hamas-Massakers vom 07. Oktober 2023.

Ausstellung "Bis gleich\, Isaak!" Di 17.09.2024 - So 17.11.2024 | zu den Öffnungszeiten des bosco und während der Abendveranstaltungen | Eintritt frei\n
Ausstellungseröffnung&nbsp\;&nbsp\;&nbsp\; Di 17.09.2024 | 19.00 | Eintritt frei\, Voranmeldung erwünscht\n
Führung&nbsp\; zur Ausstellung So 06.10.2024 | 15.00 | Eintritt frei\, Voranmeldung erwünscht\n
Film&nbsp\; So 20.10.2024 | 19.30 | € 11 / € 9\, Karten über das Kino Breitwand Gauting\n
Heimspiel&nbsp\; So 10.11.2024 | 20.00 | € 22 / € 12\n
Vortrag Mi 13.11.2024 | 20.00 | Eintritt frei\, Anmeldung erforderlich

Veranstaltungstipp zum Thema\n
Literarische Gesellschaft Gräfelfing | Vortrag mit Prof. Dr. Michael Wolffsohn "Die Juden - Existenz auf Widerruf" | Do 07.11.2024 | 19.30 | Gräfelfing

URL;VALUE=URI:https://bosco-gauting.de/veranstaltungen/themenschwerpunkt-juedisch-deutsch-ganz-normal
SUMMARY:Themenschwerpunkt Jüdisch. Deutsch. Ganz normal. // Bosco Gauting
DTSTART;TZID="W. Europe Standard Time":19700101T010000
END:VEVENT
END:VCALENDAR
