BEGIN:VCALENDAR
VERSION:2.0
PRODID:-//hacksw/handcal//NONSGML v1.0//EN
CALSCALE:GREGORIAN
BEGIN:VEVENT
DTEND;TZID="W. Europe Standard Time":20241210T213000
UID:69e6c81226fd1
DTSTAMP:20260421T024258
LOCATION:Oberer Kirchenweg 1\, 82131 Gauting
DESCRIPTION:Ein vielfach preisgekröntes\, authentisches Filmdokument über den bedeutendsten Maler der deutschen Romantik: Caspar David Friedrich (1774-1840). Intrigen und Arroganz seiner Zeitgenossen beeinflussten Friedrichs Leben auf tragische Weise. Weil er die Grenzen seiner Zeit überschreiten wollte\, wurde er von seinen Zeitgenossen\, denen seine Bilder zu revolutionär erschienen\, verkannt oder für verrückt erklärt. Der Film zeigt die Erlebnisse und Landschaften\, die den Maler inspirierten und schildert zugleich welchen Intrigen Friedrich durch seine bornierte Umwelt ausgesetzt war.\n
\n
Der Spielfilm „Caspar David Friedrich -Grenzen der Zeit“ entstand 1986 in Koproduktion mit der DEFA. Dem Regisseur Peter Schamoni ist es gelungen\, stimmungsvoll jene Landschaften zu zeigen\, die in den Gemälden Friedrichs wiederzufinden sind. Neben Rügen und Greifswald auch die „Sächsische Schweiz“\, wohin der Maler immer wieder von Dresden aus reiste. Der Film wurde mit dem Prädikat "Besonders wertvoll" ausgezeichnet\, erhielt 1987 den Bundesfilmpreis in Gold und beim Kunstfilmfestival in Montreal den 1. Preis.

Regie Peter Schamoni\n
(Dauer 1 Std. 24 Min | D 2022 | deutsch)



Eine Kooperation von

&nbsp\;&nbsp\; &amp\;&nbsp\;

&nbsp\;


Zum Themenschwerpunkt "Caspar David Friedrich"\n
Mit zahlreichen Ausstellungen in ganz Deutschland wird in diesem Jahr der 250. Geburtstag von Caspar David Friedrich gefeiert. Auch wir widmen dem 1774 in Greifswald geborenen Maler und Schöpfer des Gemäldes "Der Wanderer über dem Nebelmeer“ einen eigenen Themenschwerpunkt. Caspar David Friedrich komponierte Bilder von magischer Schönheit\, aber auch voll düsterer Melancholie und gilt heute als bedeutendster Maler der deutschen Romantik. Wir wandeln auf seinen Spuren\, erfahren etwas über die einst revolutionäre Kraft seiner Werke und entdecken Fotografien\, die von Friedrichs Bildsprache sowie seiner künstlerischen Ästhetik inspiriert wurden.



Ausstellung "Caspar David Friedrich - Eine fotografische Spurensuche" Di 19.11.2024 - So 19.01.2025 | zu den Öffnungszeiten des bosco und während der Abendveranstaltungen | Eintritt frei\n
Ausstellungseröffnung Di 19.11.2024 | 19.00 | Eintritt frei\, Voranmeldung erwünscht\n
Film Di 10.12.2024 | 19.30 | € 11 / € 9\, Karten über das Kino Breitwand Gauting\n
Lesung Di 14.01.2025 | 20.00 | € 15 / € 8


URL;VALUE=URI:https://bosco-gauting.de/veranstaltungen/film-zum-themenschwerpunkt-caspar-david-friedrich-grenzen-der-zeit-von-peter
SUMMARY:Film zum Themenschwerpunkt "Caspar David Friedrich - Grenzen der Zeit" von Peter Schamoni // Bosco Gauting
DTSTART;TZID="W. Europe Standard Time":20241210T193000
END:VEVENT
END:VCALENDAR
