BEGIN:VCALENDAR
VERSION:2.0
PRODID:-//hacksw/handcal//NONSGML v1.0//EN
CALSCALE:GREGORIAN
BEGIN:VEVENT
DTEND;TZID="W. Europe Standard Time":20241014T203000
UID:69e853f0deb64
DTSTAMP:20260422T065200
LOCATION:Oberer Kirchenweg 1\, 82131 Gauting
DESCRIPTION:Zu diesem Dialog möchte der Seniorenbeirat Gauting mit dieser Veranstaltung beitragen und hofft daher\, dass möglichst viele Vertreter der unterschiedlichen Generationen in Gauting seiner Einladung folgen. Nach einer kurzen Einführung durch den Vorsitzenden des Seniorenbeirats\, Herrn Dr. Klaus M. Wagner\, beginnt die Veranstaltung mit einer Podiumsdiskussion\, die sich dann zum Publikum hin öffnet.

Mit\n
DR. GIULIA MENNILLO Akademie für politische Bildung\, Tutzing\n
ANTONIA BRESGEN Architektin\, Gauting\n
ANGELIKA ZIEGLER BRK Mehrgenerationencampus Gauting\n
DR. CHRISTIAN WENDEBOURG Pfarrrer i.R.\, München

Moderation\n
DR. KLAUS M. WAGNER Vorsitzender des Seniorenbeirats Gauting

URL;VALUE=URI:https://bosco-gauting.de/veranstaltungen/seniorenbeirat-gauting-dialog-der-generationen-was-erwarten-wir-von-der-zukunft-0
SUMMARY:Seniorenbeirat Gauting Dialog der Generationen: Was erwarten wir von der Zukunft? // Bosco Gauting
DTSTART;TZID="W. Europe Standard Time":20241014T183000
END:VEVENT
END:VCALENDAR
