BEGIN:VCALENDAR
VERSION:2.0
PRODID:-//hacksw/handcal//NONSGML v1.0//EN
CALSCALE:GREGORIAN
BEGIN:VEVENT
DTEND;TZID="W. Europe Standard Time":20250225T180000
UID:69e95f236f9f9
DTSTAMP:20260423T015203
LOCATION:Oberer Kirchenweg 1\, 82131 Gauting
DESCRIPTION:Die Referentin Rechtsanwältin Susanne Kilisch informiert unter anderem über folgenden Themen im Betreuungsrecht:

- Wer braucht eine Vorsorgevollmacht?\n
- Wofür wird sie rechtlich benötigt?\n
- Wie kann man eine Vorsorgevollmacht erstellen\, so dass sie rechtsgültig ist?\n
- Was sind die häufigsten Fehler bei der Erstellung einer Vorsorgevollmacht?\n
- Sind Ehepartner automatisch vorsorgeberechtigt?\n
- Betreuungsverfahren\, was ist das und wann setzt ein solches ein?\n
- Wofür wird eine Patientenverfügung benötigt?\n
- Was kann in einer Patientenverfügung alles festgelegt werden?\n
- Häufige Fehler bei der Erstellung einer Patientenverfügung…. und vieles mehr

URL;VALUE=URI:https://bosco-gauting.de/veranstaltungen/kanzlei-prof-dr-thieler-prof-dr-boeh-eine-betreuung-kann-jeden-treffen
SUMMARY:Kanzlei Prof. Dr. Thieler & Prof. Dr. Böh Eine Betreuung kann jeden treffen // Bosco Gauting
DTSTART;TZID="W. Europe Standard Time":20250225T160000
END:VEVENT
END:VCALENDAR
