BEGIN:VCALENDAR
VERSION:2.0
PRODID:-//hacksw/handcal//NONSGML v1.0//EN
CALSCALE:GREGORIAN
BEGIN:VEVENT
DTEND;TZID="W. Europe Standard Time":20250408T220000
UID:69e6d3171803d
DTSTAMP:20260421T032959
LOCATION:Oberer Kirchenweg 1\, 82131 Gauting
DESCRIPTION:Musik ist die beste Medizin – das zeigt die international gefeierte Pianistin Sophie Pacini eindrucks- und vor allem klangvoll auf ihrem neuen Album »bittersweet«\, das im März 2025 bei Avenir Records erscheint.

Inspiriert von einem intimen\, bewegenden Konzert in einem Münchner Frauenhaus war es für die ECHO-Klassik-Gewinnerin ein Anliegen\, mit einer Zusammenstellung ihrer persönlichen Herzensstücke auch anderen Menschen Hoffnung und Licht in dunklen Stunden zu schenken.

Entstanden ist eine persönliche Sammlung mutmachender Meisterwerke. In einer Welt\, die oft von Ungewissheit und Belastung geprägt ist\, bietet die Musik einen kraftvollen Trost – ein Erinnern daran\, dass Schönheit\, Schmerz und Hoffnung auf geheimnisvolle Weise miteinander verwoben sind.

Mit emotionaler Tiefe entführt Sophie Pacini ihr Publikum in Werke von Schubert\, Chaminade\, Schumann\, Liszt und Mozart\, deren Musik als Pendel zwischen Leichtigkeit und Schwermut unser Leben mit allen Höhen und Tiefen widerspiegelt.

Programm\n
Franz Schubert: Sonate a-Moll D784\n
Wolfgang Amadeus Mozart: Fantasia in D-Moll\, KV 397\n
Cécile Chaminade: Romanze Nr. 1 h-Moll (aus Sechs Romanzen ohne Worte\, Op.76)\n
Franz Schubert: Impromptu Op. 142 Nr. 2\n
Franz Liszt: Consolations S. 171a Nr. 1 E-Dur\n
Robert Schumann: Carnaval Op.9

&nbsp\;



&nbsp\;



URL;VALUE=URI:https://bosco-gauting.de/veranstaltungen/sophie-pacini-klavier-bittersweet
SUMMARY:Sophie Pacini\, Klavier "bittersweet" // Bosco Gauting
DTSTART;TZID="W. Europe Standard Time":20250408T200000
END:VEVENT
END:VCALENDAR
