BEGIN:VCALENDAR
VERSION:2.0
PRODID:-//hacksw/handcal//NONSGML v1.0//EN
CALSCALE:GREGORIAN
BEGIN:VEVENT
DTEND;TZID="W. Europe Standard Time":20260314T220000
UID:69e65c8fd5252
DTSTAMP:20260420T190415
LOCATION:Oberer Kirchenweg 1\, 82131 Gauting
DESCRIPTION:Mackefisch schaffen etwas Außergewöhnliches. Und das nicht nur\, weil sie mit vier Armen und Beinen gefühlte 20 Instrumente gleichzeitig spielen – von selbstgebauten Koffer-Drums\, einem auf Rasseln\, Korkplatten und Tröten eintretenden Steppschuh über Banjo\, Gitarre bis hin zum Keyboard\, das versiertes Pianospiel mit crazy Synthie-Sounds verbindet. Auch nicht\, weil ihr zweistimmiger Gesang souverän zwischen hinreißend schön und atemberaubend rasant wechselt. Oder weil er dabei unvergleichbar lustige\, poetische und gnadenlose Texte transportiert.

Das wirklich Einzigartige an der prämierten Mini-Band ist das Gefühl\, mit dem man nach dem Konzert nach Hause geht. Und das ist ein verdammt gutes: Mackefischs KOMPLIZIRKUS lässt einen nicht einfach alle Sorgen vergessen. Auch den ernsten Themen geben Lucie Mackert und Peter Fischer bei aller guten Laune und raffinierten Rhythmen durchaus ihren Raum. Nein\, keinen Raum – eine Manege! Und schon hüpfen schwere Gedanken zu mitreißender Musik durch sprühende Reifen\, jonglieren mit guten Ideen und lassen sich streicheln. Und man merkt: nach einem Abend mit Mackefisch trägt sich die Last der Welt einfach deutlich leichter.

Mackefisch sind Gewinner zahlreicher Auszeichnungen (u.a. Kleinkunstpreis St. Ingberter Pfanne\, Kleinkunstförderpreis Baden-Württemberg\, Kabarettpreis Mindener Stichling und Funny For Future Songcontest).

Im Anschluss DJ in der Bar rosso.







www.mackefisch.de

&nbsp\;


Die Veranstaltung ist Teil von: "BOSCO\, BAMBINI! Ein FamilienFest der Fantasie "

Kommt und erlebt ein Wochenende voller Abenteuer und Fantasie: bei bosco\, bambini! dreht sich alles um mitreißende Musik\, tolles Theater\, magische Geschichten und kreative Workshops. Taucht ein in die Welt des kleinen Korianders und in den Karneval der Tiere\, in Märchen\, Musik und viele Angebote zum Mitmachen. Wir freuen uns auf alle großen und kleinen Kinder!

Fr 13.03.2026 - So 15.03.2026&nbsp\; &nbsp\;&nbsp\;&nbsp\;|&nbsp\; &nbsp\;&nbsp\;BOSCO\, BAMBINI! Ein FamilienFest der Fantasie&nbsp\;\n
Fr 13.03.2026 | 19.00 |&nbsp\; Auftaktkonzert&nbsp\; "Julia Fischer &amp\; Lena Neudauer" | € 18 / € 15\n
Sa 14.03.2026 |&nbsp\;&nbsp\; 12:15 + 13:15 + 14:15 + 15:15&nbsp\; &nbsp\; | Märchenjurte am Vorplatz &nbsp\;\n
Sa 14.03.2026 | 10.00 - 12.00 |&nbsp\;&nbsp\; Workshop&nbsp\; "Was für ein Theater" | € 15 | 4 - 10 Jahre\n
Sa 14.03.2026 | 11.00 | &nbsp\;Kindertheater&nbsp\; "Als der&nbsp\; kleine Koriander&nbsp\; kam" | € 10 | Ab 3 Jahren | 45 min\n
Sa 14.03.2026 | 14.00 - 15.30 | Workshop&nbsp\; "Fritzi\, Ferkel\, Ferdinand..." | € 15 | 4 - 8 Jahre\n
Sa 14.03.2026 | 16.00 | Kindertheater "Pony im Koffer"&nbsp\; | € 10 | Ab 5 Jahren | 55 min\n
Sa 14.03.2026&nbsp\; | 20.00 | Songwriter-Kabarett&nbsp\; &nbsp\;"Mackefisch"&nbsp\; |&nbsp\;&nbsp\;&nbsp\; Für Erwachsene und Jugendliche |&nbsp\;&nbsp\;&nbsp\; &nbsp\;€ 18 / € 15\n
So 15.03.2026 |&nbsp\;&nbsp\; 11:15 + 12:15 + 13:15 + 14:15&nbsp\; &nbsp\; | Märchenjurte am Vorplatz &nbsp\;\n
So 15.03.2026&nbsp\; |&nbsp\; 11.00 | Konzert&nbsp\; "Karneval der Tiere" | € 10 | Ab 5 Jahren | 45 min\n
So 15.03.2026&nbsp\; &nbsp\;&nbsp\;|&nbsp\; &nbsp\;14.00 - 15.30&nbsp\; &nbsp\;|&nbsp\;&nbsp\; Workshop&nbsp\; &nbsp\;"Bühne frei!"&nbsp\; |&nbsp\; € 15 | 6 - 12 Jahre\n
So 15.03.2026 | 15.00 | Konzert&nbsp\; "Karneval der Tiere" | € 10 | Ab 5 Jahren | 45 min


&nbsp\;Unterstützt von &nbsp\;

\n
&nbsp\;






&nbsp\;



&nbsp\;


URL;VALUE=URI:https://bosco-gauting.de/veranstaltungen/mackefisch-komplizirkus-songwriter-kabarett
SUMMARY:Mackefisch Komplizirkus (Songwriter-Kabarett) // Bosco Gauting
DTSTART;TZID="W. Europe Standard Time":20260314T200000
END:VEVENT
END:VCALENDAR
