BEGIN:VCALENDAR
VERSION:2.0
PRODID:-//hacksw/handcal//NONSGML v1.0//EN
CALSCALE:GREGORIAN
BEGIN:VEVENT
DTEND;TZID="W. Europe Standard Time":20251015T220000
UID:69e8eedfccabc
DTSTAMP:20260422T175303
LOCATION:Oberer Kirchenweg 1\, 82131 Gauting
DESCRIPTION:Buch "Malerluft und Malerlust. Künstlerorte in Oberbayern"

Im 19. Jahrhundert verlassen Maler*innen ihre Ateliers in den zunehmend industriell geprägten Städten und suchen die freie Natur\, das einfache Leben. Wo sie besonders hübsche Flecken finden\, lassen sie sich nieder − manchmal nur für einen Sommer lang\, oft jedoch auch für ein ganzes Leben. Ihnen nachzuspüren\, das hat sich Norbert Göttler in seinem 2024 veröffentlichten Buch Malerluft und Malerlust. Künstlerorte in Oberbayern zur Aufgabe gemacht. Er stellt über 20 solcher Künstlerorte im weiten Umkreis Münchens vor\, berichtet von den dort wirkenden Maler*innen und zeigt die neuartigen Impulse auf\, die von hier aus Eingang in die europäische Kunstgeschichte gefunden haben. Eine kleine Zeitreise zu berühmten Künstlerkolonien wie etwa der im Dachauer Moos oder pittoresken Malerorten wie dem „Russenhaus“ von Gabriele Münter und Wassily Kandinsky in Murnau.


\n
Dokumentation "Der Starnberger See und seine Maler"

Regisseur Norbert Göttler hat sich am Starnberger See auf die Spuren von Johann Georg von Dillis und Lorenzo Quaglio\, von Carl Spitzweg und später von Lovis Corinth\, Wassily Kandinsky und Paul Klee begeben\, und besuchte zuletzt auch zeitgenössische Künstler*innen der Malerei und Bildhauerei\, Sammler*innen und Museumsleute. Die Witwe Lothar Günther Buchheims steht ihm ebenso Rede und Antwort\, wie PEN-Präsident Johano Strasser und Filmregisseur Herbert Achternbusch. Sie alle lieben und hassen den See zugleich\, sind jedenfalls von ihm geprägt und zeigen\, dass man auch heute noch an seinem Ufer ein künstlerisches Leben führen kann.

Regie Norbert Göttler\n
(Dauer 42 Min. | D 2009 | deutsch)\n
&nbsp\;

DR. NORBERT GÖTTLER studierte in München Philosophie\, Theologie und Geschichte\, arbeitete als Freier Publizist\, Schriftsteller und Fernsehregisseur und war hauptamtlicher Kreisheimatpfleger des Landkreises Dachau sowie Bezirksheimatpfleger von Oberbayern. Er ist Mitglied des deutschen PEN-Zentrums und wurde u.a. mit dem Bundesverdienstkreuz ausgezeichnet.

www.norbertgoettler.de\n
www.allitera-verlag.de/buch/malerluft-und-malerlust

&nbsp\;

Zum Themenschwerpunkt "Künstler innen. Häuser außen"

Mit diesem Themenschwerpunkt wollen wir die Wechselbeziehung zwischen Künstler*innen\, ihrer physischen Umgebung und kreativen Ausdruckskraft betrachten. Dabei wird deutlich\, wie maßgeblich Inspirationsquellen und das kreative Umfeld für Künstler*innen sind und wie auch Kunst und regionale Kultur miteinander in einem produktiven Austausch stehen.&nbsp\;

Mi 24.09.2025 - So 14.12.2025 | Ausstellung "Künstler innen. Häuser außen" | Eintritt frei\n
Mi 24.09.2025 | 19.00 | Ausstellungseröffnung mit Katja Sebald und Ulrike Myrzik | Eintritt frei\n
Mi 15.10.2025 | 20.00 | Vortrag &amp\; Film "Malerluft und Malerlust" | € 18 / € 15\n
So 16.11.2025 | 11.00 | Film "Münter &amp\; Kandinsky" | € 11 / € 10\, Tickets: Kino Breitwand\n
So 23.11.2025 | 11.00 | Exkursion &amp\; Gespräch: Archiv Geiger | € 15\n
So 07.12.2025 | 11.00 | Film "Die Villa und ihr Buchheim" | € 11 / € 10\, Tickets: Kino Breitwand\n
So 14.12.2025 | 15.00 | Führung zur Ausstellung | Eintritt frei\, Anmeldung erwünscht bis Mi 10.12.2025



URL;VALUE=URI:https://bosco-gauting.de/veranstaltungen/norbert-goettler-malerluft-und-malerlust
SUMMARY:Norbert Göttler Malerluft und Malerlust. Künstlerorte in Oberbayern // Bosco Gauting
DTSTART;TZID="W. Europe Standard Time":20251015T200000
END:VEVENT
END:VCALENDAR
