BEGIN:VCALENDAR
VERSION:2.0
PRODID:-//hacksw/handcal//NONSGML v1.0//EN
CALSCALE:GREGORIAN
BEGIN:VEVENT
DTEND;TZID="W. Europe Standard Time":20260313T210000
UID:69e65c952d216
DTSTAMP:20260420T190421
LOCATION:Oberer Kirchenweg 1\, 82131 Gauting
DESCRIPTION:Ein generationsübergreifendes Musikereignis der Extraklasse und ein glanzvoller Start in unser Minifestival!

Wolfgang Amadeus Mozart: Serenade KV 525 „eine kleine Nachtmusik“\n
LENA NEUDAUER\, Violine\n
ELENA SCHÖNLEBE\, Violine\n
JULIA FISCHER\, Viola\n
ALMA STEINMETZ\, Cello\n
MARICLARA RUIZ NEUDAUER\, Kontrabass\n
\n
Johann Baptist Vanhal: Konzert für Kontrabass\n
MARICLARA RUIZ NEUDAUER\, Kontrabass\n
LENA NEUDAUER\, Klavier\n
\n
Georg Friedrich Händel / Johann Halvorsen: Passacaglia für Violine und Viola\n
LENA NEUDAUER\, Violine\n
JULIA FISCHER\, Viola\n
\n
Johann Sebastian Bach: Kunst der Fuge\, Contrapunctus 9 alla Duodecima\n
Frederic Chopin: Etüde Op. 10 Nr. 4 cis-moll\n
Sergei Rachmaninow: Prelude Op. 23 Nr. 5 g-moll\n
ELENA SCHÖNLEBE\, Klavier\n
\n
Pablo de Sarasate: Navarra Op. 33\n
JULIA FISCHER\, Violine\n
LENA NEUDAUER\, Violine\n
ELENA SCHÖNLEBE\, Klavier\n
\n
Benjamin Britten: Simple Symphony\n
JULIA FISCHER\, Violine\n
LENA NEUDAUER\, Violine\n
ELENA SCHÖNLEBE\, Viola\n
ALMA STEINMETZ\, Cello\n
MARICLARA RUIZ NEUDAUER\, Kontrabass

&nbsp\;

www.juliafischer.com

www.hmtm.de/personen/prof-lena-neudauer

&nbsp\;




&nbsp\;







&nbsp\;






&nbsp\;

Die Veranstaltung ist Teil von: "BOSCO\, BAMBINI! Ein FamilienFest der Fantasie "

Kommt und erlebt ein Wochenende voller Abenteuer und Fantasie: bei bosco\, bambini! dreht sich alles um mitreißende Musik\, tolles Theater\, magische Geschichten und kreative Workshops. Taucht ein in die Welt des kleinen Korianders und in den Karneval der Tiere\, in Märchen\, Musik und viele Angebote zum Mitmachen. Wir freuen uns auf alle großen und kleinen Kinder!

Fr 13.03.2026 - So 15.03.2026&nbsp\; &nbsp\;&nbsp\;&nbsp\;|&nbsp\; &nbsp\;&nbsp\;BOSCO\, BAMBINI! Ein FamilienFest der Fantasie&nbsp\;\n
Fr 13.03.2026 | 19.00 |&nbsp\; Auftaktkonzert&nbsp\; "Julia Fischer &amp\; Lena Neudauer" | € 18 / € 15\n
Sa 14.03.2026 |&nbsp\;&nbsp\; 12:15 + 13:15 + 14:15 + 15:15&nbsp\; &nbsp\; | Märchenjurte am Vorplatz &nbsp\;\n
Sa 14.03.2026 | 10.00 - 12.00 |&nbsp\;&nbsp\; Workshop&nbsp\; "Was für ein Theater" | € 15 | 4 - 10 Jahre\n
Sa 14.03.2026 | 11.00 | &nbsp\;Kindertheater&nbsp\; "Als der&nbsp\; kleine Koriander&nbsp\; kam" | € 10 | Ab 3 Jahren | 45 min\n
Sa 14.03.2026 | 14.00 - 15.30 | Workshop&nbsp\; "Fritzi\, Ferkel\, Ferdinand..." | € 15 | 4 - 8 Jahre\n
Sa 14.03.2026 | 16.00 | Kindertheater "Pony im Koffer"&nbsp\; | € 10 | Ab 5 Jahren | 55 min\n
Sa 14.03.2026&nbsp\; | 20.00 | Songwriter-Kabarett&nbsp\; &nbsp\;"Mackefisch"&nbsp\; |&nbsp\;&nbsp\;&nbsp\; Für Erwachsene und Jugendliche |&nbsp\; &nbsp\;€ 18 / € 15\n
So 15.03.2026 |&nbsp\;&nbsp\; 11:15 + 12:15 + 13:15 + 14:15&nbsp\; &nbsp\; | Märchenjurte am Vorplatz &nbsp\;\n
So 15.03.2026&nbsp\; |&nbsp\; 11.00 | Konzert&nbsp\; "Karneval der Tiere" | € 10 | Ab 5 Jahren | 45 min\n
So 15.03.2026&nbsp\; &nbsp\;&nbsp\;|&nbsp\; &nbsp\;14.00 - 15.30&nbsp\; &nbsp\;|&nbsp\;&nbsp\; Workshop&nbsp\; &nbsp\;"Bühne frei!"&nbsp\; |&nbsp\; € 15 | 6 - 12 Jahre\n
So 15.03.2026 | 15.00 | Konzert&nbsp\; "Karneval der Tiere" | € 10 | Ab 5 Jahren | 45 min

Unterstützt von 

&nbsp\;&nbsp\;&nbsp\;&nbsp\;



URL;VALUE=URI:https://bosco-gauting.de/veranstaltungen/julia-fischer-lena-neudauer-family-concert
SUMMARY:Julia Fischer & Lena Neudauer Family in Concert  // Bosco Gauting
DTSTART;TZID="W. Europe Standard Time":20260313T190000
END:VEVENT
END:VCALENDAR
