BEGIN:VCALENDAR
VERSION:2.0
PRODID:-//hacksw/handcal//NONSGML v1.0//EN
CALSCALE:GREGORIAN
BEGIN:VEVENT
DTEND;TZID="W. Europe Standard Time":20260314T130000
UID:69e66e88d13f9
DTSTAMP:20260420T202056
LOCATION:Oberer Kirchenweg 1\, 82131 Gauting
DESCRIPTION:In einer Küche lebt eine Gemeinschaft von Tuchlingen. Vergnügt trommeln\, kichern und tollen sie durch ihr Zuhause. Eines Tages kommt ein Brief von der Bürgermeisterin: Die Tuchlinge sollen einen gewissen „Koriander“ bei sich aufnehmen. Wieso genau bei ihnen? Und wer ist das überhaupt? Bestimmt einer\, der stinkt. Ein Großer\, der allen Platz für sich haben will. Sicher macht er alles kaputt und dreckig!\n
Fest steht: Der soll nicht kommen! Alles soll so bleiben wie immer! Aber Koriander kommt trotzdem. Nur\, er ist gar nicht groß und stinken tut er auch nicht. Aber Dreck macht er. Reichlich! Warum nur?

Regie ULRIKE ANDERSEN\n
Spiel STEFANIE HATTENKOFER

Ab 3 Jahren\n
Dauer ca. 45 Minuten

www.figurentheater-hattenkofer.de

&nbsp\;

Die Veranstaltung ist Teil von: "BOSCO\, BAMBINI! Ein FamilienFest der Fantasie "

Kommt und erlebt ein Wochenende voller Abenteuer und Fantasie: bei bosco\, bambini! dreht sich alles um mitreißende Musik\, tolles Theater\, magische Geschichten und kreative Workshops. Taucht ein in die Welt des kleinen Korianders und in den Karneval der Tiere\, in Märchen\, Musik und viele Angebote zum Mitmachen. Wir freuen uns auf alle großen und kleinen Kinder!

Fr 13.03.2026 - So 15.03.2026&nbsp\; &nbsp\;&nbsp\;&nbsp\;|&nbsp\; &nbsp\;&nbsp\;BOSCO\, BAMBINI! Ein FamilienFest der Fantasie&nbsp\;\n
Fr 13.03.2026 | 19.00 |&nbsp\; Auftaktkonzert&nbsp\; "Julia Fischer &amp\; Lena Neudauer" | € 18 / € 15\n
Sa 14.03.2026 |&nbsp\;&nbsp\; 12:15 + 13:15 + 14:15 + 15:15&nbsp\; &nbsp\; | Märchenjurte am Vorplatz &nbsp\;\n
Sa 14.03.2026 | 10.00 - 12.00 |&nbsp\;&nbsp\; Workshop&nbsp\; "Was für ein Theater" | € 15 | 4 - 10 Jahre\n
Sa 14.03.2026 | 11.00 | &nbsp\;Kindertheater&nbsp\; "Als der&nbsp\; kleine Koriander&nbsp\; kam" | € 10 | Ab 3 Jahren | 45 min\n
Sa 14.03.2026 | 14.00 - 15.30 | Workshop&nbsp\; "Fritzi\, Ferkel\, Ferdinand..." | € 15 | 4 - 8 Jahre\n
Sa 14.03.2026 | 16.00 | Kindertheater "Pony im Koffer"&nbsp\; | € 10 | Ab 5 Jahren | 55 min\n
Sa 14.03.2026&nbsp\; | 20.00 | Songwriter-Kabarett&nbsp\; &nbsp\;"Mackefisch"&nbsp\; |&nbsp\;&nbsp\;&nbsp\; Für Erwachsene und Jugendliche |&nbsp\;&nbsp\;&nbsp\; &nbsp\;€ 18 / € 15\n
So 15.03.2026 |&nbsp\;&nbsp\; 11:15 + 12:15 + 13:15 + 14:15&nbsp\; &nbsp\; | Märchenjurte am Vorplatz &nbsp\;\n
So 15.03.2026&nbsp\; |&nbsp\; 11.00 | Konzert&nbsp\; "Karneval der Tiere" | € 10 | Ab 5 Jahren | 45 min\n
So 15.03.2026&nbsp\; &nbsp\;&nbsp\;|&nbsp\; &nbsp\;14.00 - 15.30&nbsp\; &nbsp\;|&nbsp\;&nbsp\; Workshop&nbsp\; &nbsp\;"Bühne frei!"&nbsp\; |&nbsp\; € 15 | 6 - 12 Jahre\n
So 15.03.2026 | 15.00 | Konzert&nbsp\; "Karneval der Tiere" | € 10 | Ab 5 Jahren | 45 min

Unterstützt von &nbsp\;

\n
&nbsp\;



URL;VALUE=URI:https://bosco-gauting.de/veranstaltungen/figurentheater-hattenkofer-als-der-kleine-koriander-kam
SUMMARY:Figurentheater Hattenkofer Als der kleine Koriander kam // Bosco Gauting
DTSTART;TZID="W. Europe Standard Time":20260314T110000
END:VEVENT
END:VCALENDAR
