BEGIN:VCALENDAR
VERSION:2.0
PRODID:-//hacksw/handcal//NONSGML v1.0//EN
CALSCALE:GREGORIAN
BEGIN:VEVENT
DTEND;TZID="W. Europe Standard Time":20260315T170000
UID:69e65c2e28c69
DTSTAMP:20260420T190238
LOCATION:Oberer Kirchenweg 1\, 82131 Gauting
DESCRIPTION:
Johannes X. Schachtner\, die Kindersinfoniker und Preisträger*innen von Jugend musiziert lassen die Tierwelt im bosco erklingen. Gemeinsam mit dem Schauspieler Sebastian Hofmüller bringen sie das humoristische Werk in eigener Textfassung auf die Bühne.

Die Kindersinfoniker wurden 2019 in Gauting von der Geigerin Julia Fischer ins Leben gerufen\, bis heute ist sie die künstlerische Leiterin des Streichorchesters. Die derzeit 25 Kinder und Jugendlichen im Alter von acht bis 15 Jahren proben einmal wöchentlich unter der Leitung von Johannes X. Schachtner. Neben ihren regelmäßigen Auftritten in München und Umgebung waren die Kindersinfoniker bereits im Festspielhaus Baden-Baden (im Rahmen eines Gemeinschaftsprojekts mit Mitgliedern der Academy of St. Martin in the Fields) zu Gast. 2024 spielten sie zudem eine Serie von 15 Konzerten mit dem Kinderkonzertprogramm Ein Tag im Hause Schumann.

Leitung JOHANNES X. SCHACHTNER

Musik KINDERSINFONIKER\n
mit&nbsp\; &nbsp\;ELENA SCHÖNLEBE\, EMILIE XU\, Klavier\n
MARICLARA RUIZ NEUDAUER\, Kontrabass\n
ALMA STEINMETZ\, Violoncello\n
JOHANNES SCHMID\, Flöte\n
MAXIMILIAN MAI\, Klarinette\n
FILIP VOITA\, Schlagzeug

Erzähler SEBASTIAN HOFMÜLLER

Textfassung&nbsp\; DIRK SCHÖNLEBE

Ab 5 Jahren\n
Dauer ca. 45 Minuten

kindersinfoniker.de

&nbsp\;



Die Veranstaltung ist Teil von: "BOSCO\, BAMBINI! Ein FamilienFest der Fantasie "

Kommt und erlebt ein Wochenende voller Abenteuer und Fantasie: bei bosco\, bambini! dreht sich alles um mitreißende Musik\, tolles Theater\, magische Geschichten und kreative Workshops. Taucht ein in die Welt des kleinen Korianders und in den Karneval der Tiere\, in Märchen\, Musik und viele Angebote zum Mitmachen. Wir freuen uns auf alle großen und kleinen Kinder!

Fr 13.03.2026 - So 15.03.2026&nbsp\; &nbsp\;&nbsp\;&nbsp\;|&nbsp\; &nbsp\;&nbsp\;BOSCO\, BAMBINI! Ein FamilienFest der Fantasie&nbsp\;\n
Fr 13.03.2026 | 19.00 |&nbsp\; Auftaktkonzert&nbsp\; "Julia Fischer &amp\; Lena Neudauer" | € 18 / € 15\n
Sa 14.03.2026 |&nbsp\;&nbsp\; 12:15 + 13:15 + 14:15 + 15:15&nbsp\; &nbsp\; | Märchenjurte am Vorplatz &nbsp\;\n
Sa 14.03.2026 | 10.00 - 12.00 |&nbsp\;&nbsp\; Workshop&nbsp\; "Was für ein Theater" | € 15 | 4 - 10 Jahre\n
Sa 14.03.2026 | 11.00 | &nbsp\;Kindertheater&nbsp\; "Als der&nbsp\; kleine Koriander&nbsp\; kam" | € 10 | Ab 3 Jahren | 45 min\n
Sa 14.03.2026 | 14.00 - 15.30 | Workshop&nbsp\; "Fritzi\, Ferkel\, Ferdinand..." | € 15 | 4 - 8 Jahre\n
Sa 14.03.2026 | 16.00 | Kindertheater "Pony im Koffer"&nbsp\; | € 10 | Ab 5 Jahren | 55 min\n
Sa 14.03.2026&nbsp\; | 20.00 | Songwriter-Kabarett&nbsp\; &nbsp\;"Mackefisch"&nbsp\; |&nbsp\;&nbsp\;&nbsp\; Für Erwachsene und Jugendliche |&nbsp\;&nbsp\;&nbsp\; &nbsp\;€ 18 / € 15\n
So 15.03.2026 |&nbsp\;&nbsp\; 11:15 + 12:15 + 13:15 + 14:15&nbsp\; &nbsp\; | Märchenjurte am Vorplatz &nbsp\;\n
So 15.03.2026&nbsp\; |&nbsp\; 11.00 | Konzert&nbsp\; "Karneval der Tiere" | € 10 | Ab 5 Jahren | 45 min\n
So 15.03.2026&nbsp\; &nbsp\;&nbsp\;|&nbsp\; &nbsp\;14.00 - 15.30&nbsp\; &nbsp\;|&nbsp\;&nbsp\; Workshop&nbsp\; &nbsp\;"Bühne frei!"&nbsp\; |&nbsp\; € 15 | 6 - 12 Jahre\n
So 15.03.2026 | 15.00 | Konzert&nbsp\; "Karneval der Tiere" | € 10 | Ab 5 Jahren | 45 min


&nbsp\;Unterstützt von &nbsp\;

\n
&nbsp\;






&nbsp\;









&nbsp\;







&nbsp\;




URL;VALUE=URI:https://bosco-gauting.de/veranstaltungen/johannes-schachtner-sebastian-hofmueller-die-kindersinfoniker-und-jugend-musiziert-2
SUMMARY:Johannes X. Schachtner & die Kindersinfoniker  "Karneval der Tiere" nach Camille Saint-Saëns // Bosco Gauting
DTSTART;TZID="W. Europe Standard Time":20260315T150000
END:VEVENT
END:VCALENDAR
