BEGIN:VCALENDAR
VERSION:2.0
PRODID:-//hacksw/handcal//NONSGML v1.0//EN
CALSCALE:GREGORIAN
BEGIN:VEVENT
DTEND;TZID="W. Europe Standard Time":20260124T120000
UID:69e6758d430a8
DTSTAMP:20260420T205053
LOCATION:Oberer Kirchenweg 1\, 82131 Gauting
DESCRIPTION:Die mehrstimmigen Lieder\, meist nur von kleinen Männer- oder Frauenensembles gesungen\, sind bis heute tief in der georgischen Kultur verankert. Es gilt als gesichert\, dass der polyphone Gesang Georgiens bis ins 4. Jahrhundert zurückdatiert werden kann. Die Vielfalt der Regionen\, Sprachen\, Landschaften und Lebenswirklichkeiten drückt sich in den Liedern des kleinen Landes zwischen Kaukasus und Schwarzem Meer aus.

Erfahrungen im mehrstimmigen Singen und Notenkenntnisse sind willkommen\, aber keine Voraussetzung für den Workshop. Die Kurssprache ist Deutsch.&nbsp\;&nbsp\;

Leitung TAMAR BUADZE

Samstag\, 24.1. 2025\, 10 - 17 Uhr und Sonntag\, 25.1.2025\, 10 - 15 Uhr&nbsp\;\n
Teilnahmegebühr 155 € inkl. vegetarischem Mittagessen I begrenzte Teilnehmeranzahl

Tamar Buadze lebt und arbeitet als Sängerin\, Dirigentin&nbsp\;und Dozentin in Georgien. Sie hat am Konservatorium in Tiflis Gesang und Chorleitung studiert und leitet seit 2006 die Musikschule für traditionelle georgische Musik in Rustawi. Europaweit tritt sie mit ihren Chören bei Festivals und Chorwettbewerben auf und erhielt 2012 für die Verbreitung des georgischen traditionellen Liedguts in Europa den georgischen Verdienstorden.

&nbsp\;


Bitte um Unterstützung\n
Kulturaustausch\, Konzerterlebnis\, musikalisches Kennenlernen: Für die Reisekosten\, Verpflegung und&nbsp\; Unterbringung des&nbsp\; georgischen Jugendchor Tutarchela (Mondlicht) und seiner Leiterin Tamar Buadze&nbsp\; benötigen wir noch finanzielle Unterstützung.&nbsp\; Wir freuen uns über jeden Beitrag\, der uns hilft das Projekt zu ermöglichen!&nbsp\; Weitere Informationen&nbsp\; und die Möglichkeit zu spenden\, finden Sie auf betterplace.org:

Informieren und spenden: &lt\;a href=&amp\;#39\;https://www.betterplace.org/de/projects/157102-klangzauber-georgien-jugendchor-tutarchela-zu-gast-in-gauting&amp\;#39\; target=&amp\;#39\;_blank&amp\;#39\;&gt\;„Klangzauber Georgien - Jugendchor Tutarchela zu Gast in Gauting!“&lt\;/a&gt\; auf betterplace.org öffnen.\n
\n
&nbsp\;&nbsp\;Video Tamar Buadze




Unterstützt von

 



\n
Kino-Tipp\n
Am Di 20.01.2026 läuft der Dokumentarfilm Beyond Tradition – Kraft der Naturstimmen mit Tamar Buadze und dem Tutarchela Chor im Kino Breitwand Gauting. Die Vorstellung findet statt im Rahmen der Filmland Georgien-Reihe zum Themenschwerpunkt.



&nbsp\;

Zum Themenschwerpunkt "Georgien"

Die wahre Schönheit Georgiens zeigt sich – neben der landschaftlichen Vielfalt zwischen Schwarzem Meer und Großem Kaukasus – in den kulturellen Eigenheiten und lebendigen Traditionen\, die eine zentrale Rolle für die georgische Identität spielen. Gelegen an der Schnittstelle zwischen Asien und Europa hat das Land seit jeher verschiedene kulturelle Einflüsse aufgenommen\, die sich auch in Film\, Literatur und Theater widerspiegeln.

Der Länderschwerpunkt bietet ein vielfältiges Programm\, das dazu einlädt\, mehr über die Kultur und Traditionen Georgiens zu erfahren. Es eröffnet die Möglichkeit\, in Geschichten\, Musik und Bilder aus verschiedenen Regionen des Landes einzutauchen und sich mit den Herausforderungen auseinanderzusetzen\, die das Leben und die Zukunft der Menschen vor Ort prägen.\n
&nbsp\;

PROGRAMM IM BOSCO | LÄNDERSCHWERPUNKT GEORGIEN

Di 13.01.2026 - Sa 18.04.2026 | Ausstellung "The Final Days of Georgian Nomads" | Eintritt frei\n
Di 13.01.2026 | 19.00 | Ausstellungseröffnung mit Natela Grigalashvili | Eintritt frei\n
Fr 23.01.2026 | 20.00 | Konzert: Tutarchela Chor | € 27 / € 15\n
Sa 24. + So 25.01.2026 | Workshop: Tamar Buadze | € 155\n
So 22.03.2026 | 20.00 | Literatur: Kat Menschik &nbsp\;| € 22 / € 15\n
Do 14.05.2026 | 19.00 | Schauspiel: Metropoltheater München | € 39 / € 15 (Nachholtermin für Fr 13.02.2026)\n
Fr 15.05.2026&nbsp\; &nbsp\;&nbsp\;| 19.00 | Schauspiel: Metropoltheater München&nbsp\; &nbsp\;| € 39 / € 15&nbsp\; &nbsp\;(Nachholtermin für Sa 14.02.2026)\n
&nbsp\;

FILME IM KINO BREITWAND | FILMLAND GEORGIEN\n
&nbsp\;Tickets sind jeweils über das Kino Breitwand Gauting erhältlich.&nbsp\; &nbsp\;

Di 20.01.2026 | 19.30 | Film "Beyond Tradition – Kraft der Naturstimmen" | € 11 / € 10\n
Di 03.02.2026 | 19.30 | Film "Keep Smiling" | € 11 / € 10\n
Di 10.02.2026 | 19.30 | Film "Die langen hellen Tage" | € 11 / € 10\n
Di 17.02.2026 | 19.30 | Film "Was sehen wir\, wenn wir zum Himmel schauen?" | € 11 / € 10\,\n
Di 24.02.2026 | 19.30 | Film "Wet Sand" | € 11 / € 10\n
Di 03.03.2026 | 19.30 | Film "Die Maisinsel" | € 11 / € 10\n
Di 17.03.2026 | 19.30 | Film "Als wir tanzten" | € 11 / € 10\n
Di 31.03.2026 | 19.30 | Film "Tangerines" | € 11 / € 10\n
Di 07.04.2026 | 19.30 | Film "Die Zähmung der Bäume" | € 11 / € 10

URL;VALUE=URI:https://bosco-gauting.de/veranstaltungen/workshop-mit-tamar-buadze-klangzauber-georgien-georgische-lieder
SUMMARY:Workshop mit Tamar Buadze Klangzauber Georgien – Georgische Lieder // Bosco Gauting
DTSTART;TZID="W. Europe Standard Time":20260124T100000
END:VEVENT
END:VCALENDAR
