BEGIN:VCALENDAR
VERSION:2.0
PRODID:-//hacksw/handcal//NONSGML v1.0//EN
CALSCALE:GREGORIAN
BEGIN:VEVENT
DTEND;TZID="W. Europe Standard Time":20251116T130000
UID:69e8d1c6db019
DTSTAMP:20260422T154854
LOCATION:Oberer Kirchenweg 1\, 82131 Gauting
DESCRIPTION:Die Provinz wird zum Ausgangspunkt eines künstlerischen Aufbruchs in die Moderne\, der Malerei und Kunstverständnis revolutioniert und die lockere Künstlerbewegung "Der Blaue Reiter" hervorbringt. Atmosphärisch dicht zeichnet der Film die Lebens- und Liebesgeschichte von Münter und Kandinsky nach: Die junge Malschülerin\, die sich in den knapp elf Jahre älteren Lehrer verliebt. Ihr gemeinsames Leben auf Reisen und im Blauen Land\, das zur Inspirationsquelle ihrer Malerei wird und sie zu Pionier*innen ihrer Zeit macht. Ihre künstlerisch produktive\, aber privat eher fatale Verbindung\, die Münter immer mehr verzweifeln und Kandinsky immer missmutiger werden lässt. "Münter &amp\; Kandinsky" porträtiert als erster Kinospielfilm detailgetreu die gemeinsamen Jahre der beiden hochbegabten Persönlichkeiten\, die Entstehung des Blauen Reiter und lässt die Schwabinger Bohème kurz nach der Jahrhundertwende wieder aufleben.

Regie Marcus O. Rosenmüller\n
Drehbuch Alice Brauner\n
(Dauer 2 Std. 05 Min | D 2024 | deutsch)



Eine Kooperation von

&nbsp\;&nbsp\; &amp\;&nbsp\; &nbsp\;

Ort der Filmvorführung: Kino Breitwand Gauting\, Bahnhofplatz 2\, 82131 Gauting


www.camino-film.com/filme/muenterundkandinsky\n
www.breitwand.com

&nbsp\;

Zum Themenschwerpunkt "Künstler innen. Häuser außen"

Mit diesem Themenschwerpunkt wollen wir die Wechselbeziehung zwischen Künstler*innen\, ihrer physischen Umgebung und kreativen Ausdruckskraft betrachten. Dabei wird deutlich\, wie maßgeblich Inspirationsquellen und das kreative Umfeld für Künstler*innen sind und wie auch Kunst und regionale Kultur miteinander in einem produktiven Austausch stehen.&nbsp\;

Mi 24.09.2025 - So 14.12.2025 | Ausstellung "Künstler innen. Häuser außen" | Eintritt frei\n
Mi 24.09.2025 | 19.00 | Ausstellungseröffnung mit Katja Sebald und Ulrike Myrzik | Eintritt frei\n
Mi 15.10.2025 | 20.00 | Vortrag &amp\; Film "Malerluft und Malerlust" | € 18 / € 15\n
So 16.11.2025 | 11.00 | Film "Münter &amp\; Kandinsky" | € 11 / € 10\, Tickets: Kino Breitwand\n
So 23.11.2025 | 11.00 | Exkursion &amp\; Gespräch: Archiv Geiger | € 15\n
So 07.12.2025 | 11.00 | Film "Die Villa und ihr Buchheim" | € 11 / € 10\, Tickets: Kino Breitwand\n
So 14.12.2025 | 15.00 | Führung zur Ausstellung | Eintritt frei\, Anmeldung erwünscht bis Mi 10.12.2025


URL;VALUE=URI:https://bosco-gauting.de/veranstaltungen/muenter-kandinsky
SUMMARY:Film im Kino Breitwand "Münter & Kandinsky" von Marcus O. Rosenmüller // Bosco Gauting
DTSTART;TZID="W. Europe Standard Time":20251116T110000
END:VEVENT
END:VCALENDAR
